BEGIN:VCALENDAR
VERSION:2.0
PRODID:-//Wisconsin Voices for Recovery - ECPv6.15.11//NONSGML v1.0//EN
CALSCALE:GREGORIAN
METHOD:PUBLISH
X-ORIGINAL-URL:https://wisconsinvoicesforrecovery.org
X-WR-CALDESC:Events for Wisconsin Voices for Recovery
REFRESH-INTERVAL;VALUE=DURATION:PT1H
X-Robots-Tag:noindex
X-PUBLISHED-TTL:PT1H
BEGIN:VTIMEZONE
TZID:America/Chicago
BEGIN:DAYLIGHT
TZOFFSETFROM:-0600
TZOFFSETTO:-0500
TZNAME:CDT
DTSTART:20180311T080000
END:DAYLIGHT
BEGIN:STANDARD
TZOFFSETFROM:-0500
TZOFFSETTO:-0600
TZNAME:CST
DTSTART:20181104T070000
END:STANDARD
BEGIN:DAYLIGHT
TZOFFSETFROM:-0600
TZOFFSETTO:-0500
TZNAME:CDT
DTSTART:20190310T080000
END:DAYLIGHT
BEGIN:STANDARD
TZOFFSETFROM:-0500
TZOFFSETTO:-0600
TZNAME:CST
DTSTART:20191103T070000
END:STANDARD
BEGIN:DAYLIGHT
TZOFFSETFROM:-0600
TZOFFSETTO:-0500
TZNAME:CDT
DTSTART:20200308T080000
END:DAYLIGHT
BEGIN:STANDARD
TZOFFSETFROM:-0500
TZOFFSETTO:-0600
TZNAME:CST
DTSTART:20201101T070000
END:STANDARD
END:VTIMEZONE
BEGIN:VEVENT
DTSTART;TZID=America/Chicago:20190930T180000
DTEND;TZID=America/Chicago:20190930T200000
DTSTAMP:20260423T195343
CREATED:20190930T124737Z
LAST-MODIFIED:20190930T124737Z
UID:2238-1569866400-1569873600@wisconsinvoicesforrecovery.org
SUMMARY:Joyce's House Grand Opening
DESCRIPTION:
URL:https://wisconsinvoicesforrecovery.org/event/joyces-house-grand-opening/
END:VEVENT
BEGIN:VEVENT
DTSTART;TZID=America/Chicago:20190928T120000
DTEND;TZID=America/Chicago:20190928T200000
DTSTAMP:20260423T195343
CREATED:20190919T151512Z
LAST-MODIFIED:20190919T151512Z
UID:2216-1569672000-1569700800@wisconsinvoicesforrecovery.org
SUMMARY:3rd Annual Taste of Reovery
DESCRIPTION:
URL:https://wisconsinvoicesforrecovery.org/event/3rd-annual-taste-of-reovery/
END:VEVENT
BEGIN:VEVENT
DTSTART;TZID=America/Chicago:20190927T073000
DTEND;TZID=America/Chicago:20190927T093000
DTSTAMP:20260423T195343
CREATED:20190913T184122Z
LAST-MODIFIED:20190913T184122Z
UID:2213-1569569400-1569576600@wisconsinvoicesforrecovery.org
SUMMARY:2019 Bob Gannon Memorial Legislative Breakfast - Hosted by the Washington County Heroin Task Force and Elevate\, Inc.
DESCRIPTION:2019 Bob Gannon Memorial Legislative Breakfast \nHosted by the Washington County Heroin Task Force and Elevate\, Inc. \nJoin us\, along with state and local officials for a roundtable discussion about some of the most critical needs related to the substance abuse and behavioral health issues of our day. \nThis year the event will engage public officials and other leaders from the community in strategic discussions around our focused response to marijuana and its impact on youth prevention. \nPlease come prepared to give direct input to your legislator. \nJoin Us \nFriday\, September 27\, 2019 \n7:30-9:30 am \nTerrace 167 \n3210 Wis. Hwy. 167  \nRichfield\, WI 53076 \n  \nRSVP:  https://www.surveymonkey.com/r/NBQTP3R \n  \nFor more information\, contact Ronna Corliss \nrcorliss@elevateyou.org \n262.677.2216
URL:https://wisconsinvoicesforrecovery.org/event/2019-bob-gannon-memorial-legislative-breakfast-hosted-by-the-washington-county-heroin-task-force-and-elevate-inc/
LOCATION:w_ven_epps_headshot_edited
END:VEVENT
BEGIN:VEVENT
DTSTART;VALUE=DATE:20190926
DTEND;VALUE=DATE:20190928
DTSTAMP:20260423T195343
CREATED:20190903T142148Z
LAST-MODIFIED:20190903T142148Z
UID:2194-1569456000-1569628799@wisconsinvoicesforrecovery.org
SUMMARY:WISAM 2019 Annual Conference
DESCRIPTION:https://wisconsinsocietyofaddictionmedicine.wildapricot.org/event-3105724 \nThurs.\, September 26 & Fri.\, September 27\, 2019\nThe Pyle Center | 702 Langdon St | Madison\, WI 53706 \nConference Agenda: Click here to view schedule; Download registration brochure \nRegister Early! Early Bird Rates are available through August 15th. \nMEB Opioid Prescribing Education: This live course has been approved by the Wisconsin Medical Examining Board as meeting the requirements for the two-hour continuing education course on responsible opioid prescribing per Med 13.03(3) of the Wisconsin Administrative Code. \nOvernight Accommodations: Rooms are available on a first-come\, first-served basis at The Lowell Center\, 610 Langdon St\, Madison\, WI 53703. Book online at: http://bit.ly/wisam2019\, Other downtown Madison hotels are within walking distance to the Pyle Center. \nVendors/Exhibitors:  Register here to reserve your exhibit space. View prospectus.
URL:https://wisconsinvoicesforrecovery.org/event/wisam-2019-annual-conference/
END:VEVENT
BEGIN:VEVENT
DTSTART;TZID=America/Chicago:20190921T173000
DTEND;TZID=America/Chicago:20190921T210000
DTSTAMP:20260423T195343
CREATED:20190701T141206Z
LAST-MODIFIED:20190701T141206Z
UID:3171-1569087000-1569099600@wisconsinvoicesforrecovery.org
SUMMARY:GREATER MILWAUKEE CENTRAL OFFICE FALL FLING
DESCRIPTION:FLYER HERE: \nhttps://www.area75.org/calendar/656/flyer \nDINNER AND AA SPEAKER EVENT\nSATURDAY\, SEPTEMBER 21\, 2019\nHOSPITALITY: 5:30 PM\, DINNER: 6 PM
URL:https://wisconsinvoicesforrecovery.org/event/greater-milwaukee-central-office-fall-fling/
LOCATION:Rockin Recovery Rendezvous
END:VEVENT
BEGIN:VEVENT
DTSTART;TZID=America/Chicago:20190921T110000
DTEND;TZID=America/Chicago:20190921T140000
DTSTAMP:20260423T195343
CREATED:20190820T164247Z
LAST-MODIFIED:20190820T164247Z
UID:2122-1569063600-1569074400@wisconsinvoicesforrecovery.org
SUMMARY:Tie Dyed Bike Ride and Bring Your Own Beef Bar BQ
DESCRIPTION:What: Tie Dyed Bike Ride and Bring Your Own Beef Bar BQ \nWhen: 11 a.m. to 2 p.m. Sept. 21 \nWhere: Start at In-Courage Sauk County\, 102 Fourth Ave.\, Baraboo\, ends at Devil’s Lake State Park \nRegister: Text “ride” to 608-341-0225 \nCost: $13 for Wisconsin residents to enter park. $3 for seniors. Bike ride free; bringing meat to grill is encouraged.
URL:https://wisconsinvoicesforrecovery.org/event/tie-dyed-bike-ride-and-bring-your-own-beef-bar-bq/
END:VEVENT
BEGIN:VEVENT
DTSTART;TZID=America/Chicago:20190921T100000
DTEND;TZID=America/Chicago:20190921T100000
DTSTAMP:20260423T195343
CREATED:20190621T135012Z
LAST-MODIFIED:20190621T135012Z
UID:3160-1569060000-1569060000@wisconsinvoicesforrecovery.org
SUMMARY:Kenosha-Racine Rally for Recovery 2019
DESCRIPTION:Kenosha-Racine Rally for Recovery’s purpose is to create a culture that supports addiction recovery for individuals\, families and communities through advocacy\, education and support. Our mission is to provide the community with information\, a variety of resources\, as well as long-term recovery speakers to show that recovery is real\, available\, and sustainable. The opposite of addiction is not just sobriety\, it’s human connection. Please help us raise awareness by making a donation to help defray the costs of this event. \nhttps://www.facebook.com/events/535159520225252/
URL:https://wisconsinvoicesforrecovery.org/event/kenosha-racine-rally-for-recovery-2019/
END:VEVENT
BEGIN:VEVENT
DTSTART;TZID=America/Chicago:20190921T093000
DTEND;TZID=America/Chicago:20190921T130000
DTSTAMP:20260423T195343
CREATED:20190815T153033Z
LAST-MODIFIED:20190815T153033Z
UID:2107-1569058200-1569070800@wisconsinvoicesforrecovery.org
SUMMARY:11th Annual Milwaukee Walk for Recovery
DESCRIPTION:11th Annual Milwaukee Walk for Recovery\nJoin us in celebration of Recovery Month!\nAbout Organizer:\nJoin our annual walk for addiction recovery awareness. Come join us and take strides for strengthening the voice of recovery!
URL:https://wisconsinvoicesforrecovery.org/event/11th-annual-milwaukee-walk-for-recovery/
END:VEVENT
BEGIN:VEVENT
DTSTART;TZID=America/Chicago:20190921T090000
DTEND;TZID=America/Chicago:20190921T110000
DTSTAMP:20260423T195343
CREATED:20190815T153939Z
LAST-MODIFIED:20190815T153939Z
UID:2109-1569056400-1569063600@wisconsinvoicesforrecovery.org
SUMMARY:Substance Free Tailgate - Wisconsin vs Michigan
DESCRIPTION:Library Mall 9:00 – 11:00 am
URL:https://wisconsinvoicesforrecovery.org/event/substance-free-tailgate-wisconsin-vs-michigan/
END:VEVENT
BEGIN:VEVENT
DTSTART;TZID=America/Chicago:20190920T083000
DTEND;TZID=America/Chicago:20190920T100000
DTSTAMP:20260423T195343
CREATED:20190903T141105Z
LAST-MODIFIED:20190903T141105Z
UID:2186-1568968200-1568973600@wisconsinvoicesforrecovery.org
SUMMARY:Drug Free Communities Waukesha Celebration!
DESCRIPTION:A Coalition of community members working together to prevent youth alcohol and drug use in Waukesha County. Supporting Schools. Supporting Families. Supporting Youth. \n\n\n\n\n\n\n\nDFC Celebration!\nFriday\, September 20\, 2019  \n8:30am-10:00am \n  \nJoin us as we celebrate 10 years of amazing prevention work in Waukesha County! \nTreats and sweets provided. \nShort program at 9:00am. \nHear from the current DFC Coalition Co-Chairs and learn about the recipients of the DFC Mini-Grants! \nYour RSVP is greatly appreciated. Thank you. \nLOCATION \nWaukesha Co Department of Health Services\, room 114. \nLocated at 514 Riverview Ave\, Waukesha\, 53188. \nAllow a couple of minutes to check-in at the front desk.
URL:https://wisconsinvoicesforrecovery.org/event/drug-free-communities-waukesha-celebration/
END:VEVENT
BEGIN:VEVENT
DTSTART;TZID=America/Chicago:20190920T030000
DTEND;TZID=America/Chicago:20190926T120000
DTSTAMP:20260423T195343
CREATED:20200708T125634Z
LAST-MODIFIED:20201023T182537Z
UID:1485-1568948400-1569499200@wisconsinvoicesforrecovery.org
SUMMARY:7th Annual Rally for Recovery
DESCRIPTION:7th Annual Rally for Recovery – Saturday\, September 26th\, 2020\, 11:00 am – 3:30 pm
URL:https://wisconsinvoicesforrecovery.org/event/donation-is-hope-for-children-2-copy-2-copy-copy-copy-copy/
LOCATION:Wisconsin State Capitol\, Wisconsin State Capitol\, Wisconsin State\, 1205\, American Samoa
CATEGORIES:cat list one
ATTACH;FMTTYPE=image/jpeg:https://wisconsinvoicesforrecovery.org/wp-content/uploads/2020/07/SAM_5876-scaled.jpg
ORGANIZER;CN="wisconsinvoicesforrecovery":MAILTO:courses@gmail.com
END:VEVENT
BEGIN:VEVENT
DTSTART;VALUE=DATE:20190919
DTEND;VALUE=DATE:20190921
DTSTAMP:20260423T195343
CREATED:20190903T141515Z
LAST-MODIFIED:20190903T141515Z
UID:2190-1568851200-1569023999@wisconsinvoicesforrecovery.org
SUMMARY:23rd Annual Crisis Intervention Conference
DESCRIPTION:23rd Annual Crisis Intervention Conference\n\n“Intersection or Roundabout: Moving from Crisis to Hope”\nSeptember 19-20\, 2019\n\nKalahari Resort & Convention Center\nWisconsin Dells\, Wisconsin
URL:https://wisconsinvoicesforrecovery.org/event/23rd-annual-crisis-intervention-conference/
END:VEVENT
BEGIN:VEVENT
DTSTART;TZID=America/Chicago:20190914T110000
DTEND;TZID=America/Chicago:20190914T150000
DTSTAMP:20260423T195343
CREATED:20190307T035946Z
LAST-MODIFIED:20190307T035946Z
UID:3146-1568458800-1568473200@wisconsinvoicesforrecovery.org
SUMMARY:Wisconsin Voices for Recovery - 6th Annual Rally for Recovery
DESCRIPTION:6th Annual Rally for Recovery at the State Capitol from 11:00 am – 3:00 pm \nINFORMATION HERE:  http://wisconsinvoicesforrecovery.org/recovery-rally/ \n2019 Rally_Flyer \n 
URL:https://wisconsinvoicesforrecovery.org/event/rally-for-recovery/
LOCATION:Home
ATTACH;FMTTYPE=:
END:VEVENT
BEGIN:VEVENT
DTSTART;TZID=America/Chicago:20190908T153000
DTEND;TZID=America/Chicago:20190908T213000
DTSTAMP:20260423T195343
CREATED:20190521T192544Z
LAST-MODIFIED:20190521T192544Z
UID:3152-1567956600-1567978200@wisconsinvoicesforrecovery.org
SUMMARY:FOX CITIES RECOVERY CELEBRATION & MEMORIAL WALK
DESCRIPTION:MISSION\n\n\n\n\n\n\n\n\nRaise awareness about addiction and the impact it has on our families and communities across the Nation \n\n\nCelebrate recovery which demonstrates HOPE and SUCCESS to others seeking recovery \n\n\nSupport families who have been impacted by addiction and loss \n\n\nHelp others heal and embrace a meaningful and purpose-driven life in recovery and in grieving a loss
URL:https://wisconsinvoicesforrecovery.org/event/fox-cities-recovery-celebration-memorial-walk/
LOCATION:Home
END:VEVENT
BEGIN:VEVENT
DTSTART;TZID=America/Chicago:20190907T100000
DTEND;TZID=America/Chicago:20190907T130000
DTSTAMP:20260423T195343
CREATED:20190622T160739Z
LAST-MODIFIED:20190622T160739Z
UID:3162-1567850400-1567861200@wisconsinvoicesforrecovery.org
SUMMARY:Roarin' for Recovery 2019
DESCRIPTION:$12 zoo tickets! Free parking! Kid/Family friendly event! \n3rd Annual Roarin’ for Recovery Event!\nSeptember is Recovery Month and we are celebrating at the zoo! Come celebrate recovery and enjoy the zoo with friends and family. This event creates an opportunity to strengthen families and unite communities for a celebration of recovery. There will be a wellness fair\, giveaways\, recovery speakers\, family fun\, raffle\, community outreach and more! \nWellness fair: 10am-1pm\nSpeaker: 11am \nTickets available for purchase through ARC\, WisHope\, or at www.roarinrecovery.net.\nThe tickets to the event are good for the entire day at the zoo! Come to hear our speaker at 11am\, browse the wellness fair\, and then enjoy the zoo with your friends\, family\, and others in the recovery community! \nBe sure to find our Roarin’ for Recovery event t-shirt table! \nDISCLAIMER: The Milwaukee County Zoo is not a sponsor of this event.
URL:https://wisconsinvoicesforrecovery.org/event/roarin-for-recovery-2019/
LOCATION:Resource Map
END:VEVENT
BEGIN:VEVENT
DTSTART;TZID=America/Chicago:20190904T170000
DTEND;TZID=America/Chicago:20190904T200000
DTSTAMP:20260423T195343
CREATED:20190818T132433Z
LAST-MODIFIED:20190818T132433Z
UID:2115-1567616400-1567627200@wisconsinvoicesforrecovery.org
SUMMARY:JOIN THE VOICES FOR RECOVERY:  TOGETHER WE ARE STRONGER
DESCRIPTION:We are having a celebrate recovery event/celebration here in Green Bay on September 4th. 5-8 pm\, it will be held at St. James’s Park in Green bay. St. James Park is on Monroe avenue just east of the down town area\, near the downtown area of Green Bay.\nThere will be speakers\, there will native drum presentation\, free food and live music. \nLawrence Nikodem BA\, CSAC\nState of Wisconsin-Certified Clinical Substance Abuse Counselor.\nHuman Services Professional/Provider–34 years.\nNAMA/Fellow Member-National Anger Management Association.\nNAADAC/Member-National Association of Addiction Professionals.\nProgram Manager/Counselor\nA Better Future Counseling Services\, LLC\n812 Fisk Street\, Suite #201\nGreen Bay\, Wisconsin 54303\n(920) 217-2746\nhttp://abetterfuturecounselingservices.com/ \n 
URL:https://wisconsinvoicesforrecovery.org/event/join-the-voices-fr-recovery-together-we-are-stronger/
END:VEVENT
BEGIN:VEVENT
DTSTART;TZID=America/Chicago:20190831T183000
DTEND;TZID=America/Chicago:20190831T213000
DTSTAMP:20260423T195343
CREATED:20190813T123533Z
LAST-MODIFIED:20190813T123533Z
UID:2104-1567276200-1567287000@wisconsinvoicesforrecovery.org
SUMMARY:International Overdose Awareness Day - Waukesha County Harm Reduction Pillar
DESCRIPTION:Event Description\n\nHosted by the Waukesha County Harm Reduction Pillar\, a gathering to support recovery efforts in our community. Residents wanting to show support for families working to stem the tide of addiction will be meeting in the North Parking lot across from the courthouse. Event includes: Community Awareness\, Featured Speakers\, Opportunity for Open Share and a Celebration of lives saved in Waukesha County as well as a Candlelight Vigil offering hope for the future. \n\n\n\n\n515 W. Moreland\nWaukesha\, WI 53188\nUnited States \n\nHeroin Task Force of Waukesha County\, Harm Reduction Pillar\n\n\nSharon Kleppe\n\n\nsk.learningtodance@gmail.com\n\n\n262-212-2764
URL:https://wisconsinvoicesforrecovery.org/event/international-overdose-awareness-day-waukesha-county-harm-reduction-pillar/
END:VEVENT
BEGIN:VEVENT
DTSTART;TZID=America/Chicago:20190831T120000
DTEND;TZID=America/Chicago:20190831T150000
DTSTAMP:20260423T195343
CREATED:20190826T125039Z
LAST-MODIFIED:20190826T125039Z
UID:2161-1567252800-1567263600@wisconsinvoicesforrecovery.org
SUMMARY:Overdose Awareness Day - Safe Communities Madison
DESCRIPTION:DETAILS\n\nDate:\nAUGUST 31\nCost:\nFree\n\n\n\nORGANIZER\n\nSafe Communities\nPhone:\n608.441.3060\nEmail:\ninfo@safercommunity.net\nWebsite:\nwww.safercommunity.net
URL:https://wisconsinvoicesforrecovery.org/event/overdose-awareness-day-safe-communities-madison/
END:VEVENT
BEGIN:VEVENT
DTSTART;TZID=America/Chicago:20190830T160000
DTEND;TZID=America/Chicago:20190830T190000
DTSTAMP:20260423T195343
CREATED:20190613T205357Z
LAST-MODIFIED:20190613T205357Z
UID:3159-1567180800-1567191600@wisconsinvoicesforrecovery.org
SUMMARY:Rise Together Family Night with the Timber Rattlers
DESCRIPTION:RISE TOGETHER & Face Entertainment are hosting a family night with the Wisconsin Timber Rattlers! \nThis will be a night to celebrate recovery and prevention for family\, friends\, and fellowship! \nThere will be live music outside before the game featuring Jared Blake from the smash T.V. series The Voice!!! With performances by local acts Hope and Patience\, J Slik\, Traveling Tai\, and Maise Cramer \nWe will have our very own section for everyone to sit together. Use promo code: recovery to get discounted tickets (CLICK HERE) \nSee more @ the Facebook Event
URL:https://wisconsinvoicesforrecovery.org/event/rise-together-family-night-with-the-timber-rattlers/
LOCATION:resources-and-training
ATTACH;FMTTYPE=:
END:VEVENT
BEGIN:VEVENT
DTSTART;VALUE=DATE:20190823
DTEND;VALUE=DATE:20190826
DTSTAMP:20260423T195343
CREATED:20190701T141459Z
LAST-MODIFIED:20190701T141459Z
UID:3172-1566518400-1566777599@wisconsinvoicesforrecovery.org
SUMMARY:Wyalusing Cabin Camping
DESCRIPTION:FLYER HERE: \nhttps://www.area75.org/calendar/655/flyer
URL:https://wisconsinvoicesforrecovery.org/event/wyalusing-cabin-camping/
LOCATION:Creative Ways to Approach Recovery Support Services in Sheboygan\, WI.
END:VEVENT
BEGIN:VEVENT
DTSTART;TZID=America/Chicago:20190818T110000
DTEND;TZID=America/Chicago:20190818T150000
DTSTAMP:20260423T195343
CREATED:20190701T135821Z
LAST-MODIFIED:20190701T135821Z
UID:2013-1566126000-1566140400@wisconsinvoicesforrecovery.org
SUMMARY:Richland Center Group Picnic
DESCRIPTION:FLYER HERE: \nhttps://aamadisonwi.org/wp-content/uploads/2019/05/Aug.-18-2019-Richland-Center-Group-Picnic.pdf
URL:https://wisconsinvoicesforrecovery.org/event/richland-center-group-picnic/
END:VEVENT
BEGIN:VEVENT
DTSTART;VALUE=DATE:20190816
DTEND;VALUE=DATE:20190819
DTSTAMP:20260423T195343
CREATED:20190701T135445Z
LAST-MODIFIED:20190701T135445Z
UID:3169-1565913600-1566172799@wisconsinvoicesforrecovery.org
SUMMARY:Green Lake Round-Up
DESCRIPTION:FLYER HERE: \nhttps://aamadisonwi.org/wp-content/uploads/2019/06/Green-Lake-Roundup-2019.pdf
URL:https://wisconsinvoicesforrecovery.org/event/green-lake-round-up/
END:VEVENT
BEGIN:VEVENT
DTSTART;TZID=America/Chicago:20190815T170000
DTEND;TZID=America/Chicago:20190815T190000
DTSTAMP:20260423T195343
CREATED:20190812T172911Z
LAST-MODIFIED:20190812T172911Z
UID:2101-1565888400-1565895600@wisconsinvoicesforrecovery.org
SUMMARY:Prevention Network Picnic
DESCRIPTION:For more information\, please contact Ronna Corliss rcorliss@elevateyou.org \nJoin us in celebrating what makes Washington County a great place to live\, work and play. It is a chance to recognize many outstanding individuals volunteering right here in our county! \nDid you know that there are over 600 people from Germantown\, Hartford\, Slinger\, Jackson\, West Bend and Kewaskum working to prevent youth substance abuse in Washington County? The Prevention Network is pleased to provide the chance to meet and talk about what is working in their communities. Come share your successes and problem solve with others feeling some of your same frustrations. \nWe hope to see you there\, family members are welcome!
URL:https://wisconsinvoicesforrecovery.org/event/prevention-network-picnic/
END:VEVENT
BEGIN:VEVENT
DTSTART;TZID=America/Chicago:20190810T090000
DTEND;TZID=America/Chicago:20190810T140000
DTSTAMP:20260423T195343
CREATED:20190701T135143Z
LAST-MODIFIED:20190701T135143Z
UID:3168-1565427600-1565445600@wisconsinvoicesforrecovery.org
SUMMARY:Madison Area Intergroup Central Office Summer Picnic
DESCRIPTION:FLYER HERE: \nhttps://aamadisonwi.org/wp-content/uploads/2019/06/MAICO-Summer-Picnic-2019-Flyer.pdf
URL:https://wisconsinvoicesforrecovery.org/event/madison-area-intergroup-central-office-summer-picnic/
LOCATION:ED2Recovery+ Information
END:VEVENT
BEGIN:VEVENT
DTSTART;TZID=America/Chicago:20190804T060000
DTEND;TZID=America/Chicago:20190804T120000
DTSTAMP:20260423T195343
CREATED:20190716T171059Z
LAST-MODIFIED:20190716T171059Z
UID:2069-1564898400-1564920000@wisconsinvoicesforrecovery.org
SUMMARY:Home Run 2019
DESCRIPTION:The Home Run event is an Awareness Event to help fight the stigma of Addiction.  \nIn partnership with the La Crosse Loggers to Benefit Coulee Recovery Center we present HOME RUN. Home Run is a fundraising event that includes a 5K Honor Run/Walk\, the only Road Race 10K in La Crosse County\, awards and more!  Races will be timed!  \n\n\n\n\n\n\n\n\n\n\n\n\nhttp://www.couleecouncil.org/home-run-event.html
URL:https://wisconsinvoicesforrecovery.org/event/home-run-2019/
END:VEVENT
BEGIN:VEVENT
DTSTART;TZID=America/Chicago:20190803T073000
DTEND;TZID=America/Chicago:20190803T150000
DTSTAMP:20260423T195343
CREATED:20190610T125912Z
LAST-MODIFIED:20190610T125912Z
UID:1946-1564817400-1564844400@wisconsinvoicesforrecovery.org
SUMMARY:Exodus House 9th Annual Golf Outing
DESCRIPTION:Join us for the 9th Annual Exodus House Golf Outing Event on Saturday August 3rd! The Exodus House Golf Outing has become a yearly tradition. The success of our program lies in our ability to offer opportunities for our residents to have FUN in recovery. Your support makes this event possible and contributes to the overall success of Exodus House. \nProceeds benefit Exodus Foundation\, which funds expansion and improvement projects to meet the growing need for addiction treatment services in our community. \nFeatures\nHole contests\nRaffles\nRib eye steak sandwich lunch\nAward Presentation \nPre-register by mail or phone:\nnicole.thull@exodus-house.org\n1421 Fond du Lac Kewaskum WI 53040\n262.626.4166 \n*Checks Payable to Exodus Foundation \nhttps://www.facebook.com/events/the-golf-club-at-camelot/exodus-house-9th-annual-golf-outing-event-saturday-august-3rd/445759682848727/
URL:https://wisconsinvoicesforrecovery.org/event/exodus-house-9th-annual-golf-outing/
LOCATION:Home
END:VEVENT
BEGIN:VEVENT
DTSTART;TZID=America/Chicago:20190801T173000
DTEND;TZID=America/Chicago:20190801T183000
DTSTAMP:20260423T195343
CREATED:20190701T133800Z
LAST-MODIFIED:20190701T133800Z
UID:3166-1564680600-1564684200@wisconsinvoicesforrecovery.org
SUMMARY:Naloxone (Narcan) Training & Opioid Education
DESCRIPTION:Occurs First Thursday of each month\nOpen to the Public\nFree Narcan kits available for those who wish\n“Funding for this training was made possible in part by the Wisconsin Prescription Drug/Opioid Overdose-Related Deaths Prevention Project (WI-PDO) from SAMHSA grant #SP022112 The views expressed in written conference materials or publications and by speakers and moderators do not necessarily reflect the official policies of the Department of Health and Human Services; nor does mention of trade names\, commercial practices\, or organizations imply endorsement by the U.S. Government.”\n\n\n\n\nWhen\n\nThu Aug 1\, 2019 5:30pm – 6:30pm Central Time – Chicago\n\n\n\nWhere\n\nWaukesha Alano Club\, 318 W Broadway\, Waukesha\, WI 53186\, USA (map)
URL:https://wisconsinvoicesforrecovery.org/event/naloxone-narcan-training-opioid-education/
END:VEVENT
BEGIN:VEVENT
DTSTART;TZID=America/Chicago:20190801T080000
DTEND;TZID=America/Chicago:20190802T170000
DTSTAMP:20260423T195343
CREATED:20190307T035833Z
LAST-MODIFIED:20190307T035833Z
UID:1536-1564646400-1564765200@wisconsinvoicesforrecovery.org
SUMMARY:Peer Support Specialist Conference
DESCRIPTION:Wisconsin Peer Recovery Conference\n           “Recovery Outside the Box”         \n\n\nhttps://www.uwsp.edu/conted/ConfWrkShp/Pages/WI-Peer-Recovery-Conference.aspx\n\nThursday and Friday\, August 1-2\, 2019\nStoney Creek Hotel and Conference Center\nOnalaska\, WI\n  \nWho should attend?\n\nAdvocates\nIndividuals interested in supporting others more effectively\nMental Health Professionals\nPeer Specialists\n\nObjectives:\n\nDemonstrate aspects of effective peer support within community services of mental health and substance use recovery\nEnhance individual skills to provide more effective personal support\nExplore innovative applications of peer support in communities
URL:https://wisconsinvoicesforrecovery.org/event/peer-support-specialist-conference/
END:VEVENT
BEGIN:VEVENT
DTSTART;TZID=America/Chicago:20190727T180000
DTEND;TZID=America/Chicago:20190727T210000
DTSTAMP:20260423T195343
CREATED:20190701T134850Z
LAST-MODIFIED:20190701T134850Z
UID:3167-1564250400-1564261200@wisconsinvoicesforrecovery.org
SUMMARY:Dodgeville Downtowner's AA Annual Corn Brat Fest
DESCRIPTION:FLYER HERE: \nhttps://aamadisonwi.org/wp-content/uploads/2019/06/July-27-2019-Dodgeville-Downtowners-Annual-Corn-Brat-Fest.pdf \n 
URL:https://wisconsinvoicesforrecovery.org/event/dodgeville-downtowners-aa-annual-corn-brat-fest/
END:VEVENT
BEGIN:VEVENT
DTSTART;TZID=America/Chicago:20190727T120000
DTEND;TZID=America/Chicago:20190727T170000
DTSTAMP:20260423T195343
CREATED:20190701T142929Z
LAST-MODIFIED:20190701T142929Z
UID:3175-1564228800-1564246800@wisconsinvoicesforrecovery.org
SUMMARY:Alcoholics Anonymous of Eagle River Annual Picnic
DESCRIPTION:FLYER HERE: \nhttp://northwoodsaa.org/wp-content/uploads/AA-PICNIC-FINAL-2019-1.pdf
URL:https://wisconsinvoicesforrecovery.org/event/alcoholics-anonymous-of-eagle-river-annual-picnic/
LOCATION:RALLY FOR RECOVERY 2016
END:VEVENT
END:VCALENDAR