BEGIN:VCALENDAR
VERSION:2.0
PRODID:-//Wisconsin Voices for Recovery - ECPv6.15.11//NONSGML v1.0//EN
CALSCALE:GREGORIAN
METHOD:PUBLISH
X-WR-CALNAME:Wisconsin Voices for Recovery
X-ORIGINAL-URL:https://wisconsinvoicesforrecovery.org
X-WR-CALDESC:Events for Wisconsin Voices for Recovery
REFRESH-INTERVAL;VALUE=DURATION:PT1H
X-Robots-Tag:noindex
X-PUBLISHED-TTL:PT1H
BEGIN:VTIMEZONE
TZID:America/Chicago
BEGIN:DAYLIGHT
TZOFFSETFROM:-0600
TZOFFSETTO:-0500
TZNAME:CDT
DTSTART:20180311T080000
END:DAYLIGHT
BEGIN:STANDARD
TZOFFSETFROM:-0500
TZOFFSETTO:-0600
TZNAME:CST
DTSTART:20181104T070000
END:STANDARD
BEGIN:DAYLIGHT
TZOFFSETFROM:-0600
TZOFFSETTO:-0500
TZNAME:CDT
DTSTART:20190310T080000
END:DAYLIGHT
BEGIN:STANDARD
TZOFFSETFROM:-0500
TZOFFSETTO:-0600
TZNAME:CST
DTSTART:20191103T070000
END:STANDARD
BEGIN:DAYLIGHT
TZOFFSETFROM:-0600
TZOFFSETTO:-0500
TZNAME:CDT
DTSTART:20200308T080000
END:DAYLIGHT
BEGIN:STANDARD
TZOFFSETFROM:-0500
TZOFFSETTO:-0600
TZNAME:CST
DTSTART:20201101T070000
END:STANDARD
BEGIN:DAYLIGHT
TZOFFSETFROM:-0600
TZOFFSETTO:-0500
TZNAME:CDT
DTSTART:20210314T080000
END:DAYLIGHT
BEGIN:STANDARD
TZOFFSETFROM:-0500
TZOFFSETTO:-0600
TZNAME:CST
DTSTART:20211107T070000
END:STANDARD
END:VTIMEZONE
BEGIN:VEVENT
DTSTART;TZID=America/Chicago:20200413T130000
DTEND;TZID=America/Chicago:20200413T140000
DTSTAMP:20260423T171034
CREATED:20200325T155107Z
LAST-MODIFIED:20200325T155107Z
UID:2443-1586782800-1586786400@wisconsinvoicesforrecovery.org
SUMMARY:All Recovery Meeting
DESCRIPTION:  \n\n\n\n\n\n\n\n\n\n\n\n\n\n\n\n\n\n\n\nDuring the COVID-19 Pandemic we will be hosting an all Recovery meeting twice weekly\, Monday and Thursdays from 1-2 pm. Please stay connected with us and your support groups virtually during this difficult time. You are not alone. \nLog into the WI Voices for Recovery All Recovery meetings here: \nJoin URL: https://us04web.zoom.us/j/579337497 \n\n\n\n\n\n\n\n\n\n\n\n\n\n\n\n\n\n\n\n 
URL:https://wisconsinvoicesforrecovery.org/event/all-recovery-meeting-5/
END:VEVENT
BEGIN:VEVENT
DTSTART;TZID=America/Chicago:20200409T130000
DTEND;TZID=America/Chicago:20200409T140000
DTSTAMP:20260423T171034
CREATED:20200325T153206Z
LAST-MODIFIED:20200325T153206Z
UID:2441-1586437200-1586440800@wisconsinvoicesforrecovery.org
SUMMARY:All Recovery Meeting
DESCRIPTION:  \n\n\n\n\n\n\n\n\n\n\n\n\n\n\n\n\n\n\n\nDuring the COVID-19 Pandemic we will be hosting an all Recovery meeting twice weekly\, Monday and Thursdays from 1-2 pm. Please stay connected with us and your support groups virtually during this difficult time. You are not alone. \nLog into the WI Voices for Recovery All Recovery meetings here: \n\n\n\n\n\n\n\n\n\n\n\n\n\n\n\n\n\n\n\nJoin URL: https://us04web.zoom.us/j/579337497
URL:https://wisconsinvoicesforrecovery.org/event/all-recovery-meeting-4/
END:VEVENT
BEGIN:VEVENT
DTSTART;TZID=America/Chicago:20200408T130000
DTEND;TZID=America/Chicago:20200408T133000
DTSTAMP:20260423T171034
CREATED:20200327T215904Z
LAST-MODIFIED:20200327T215904Z
UID:2494-1586350800-1586352600@wisconsinvoicesforrecovery.org
SUMMARY:Q&A with Michael King
DESCRIPTION:Join us as we speak with local and national recovery advocates as they offer advice to those in recovery on ways to stay connected. \nThis weeks guest: Michael King\, Director and creator of The Communities Project. \nThis weeks topic: Self reflection and feedback in recovery\, leadership\, and life! \nJoin URL: https://us04web.zoom.us/j/137633249
URL:https://wisconsinvoicesforrecovery.org/event/qa-with-michael-king/
ATTACH;FMTTYPE=:
END:VEVENT
BEGIN:VEVENT
DTSTART;VALUE=DATE:20200407
DTEND;VALUE=DATE:20200408
DTSTAMP:20260423T171034
CREATED:20200325T165005Z
LAST-MODIFIED:20200325T165005Z
UID:2480-1586217600-1586303999@wisconsinvoicesforrecovery.org
SUMMARY:2020 Spring Election and Presidential Preference Primary
DESCRIPTION:If you are unsure or know you need to register you can do so through this awesome website! https://myvote.wi.gov/en-us/RegisterToVote You can also find your polling place on the myvote.wi/gov website. \nWhy should you vote?\nHere at Wisconsin Voices for Recovery we believe every voice matters. It doesn’t matter who you vote for just as long as you use your voice and get out there and vote! #standup4recovery
URL:https://wisconsinvoicesforrecovery.org/event/2020-spring-election-and-presidential-preference-primary/
END:VEVENT
BEGIN:VEVENT
DTSTART;TZID=America/Chicago:20200406T130000
DTEND;TZID=America/Chicago:20200406T140000
DTSTAMP:20260423T171034
CREATED:20200325T152934Z
LAST-MODIFIED:20200325T152934Z
UID:2438-1586178000-1586181600@wisconsinvoicesforrecovery.org
SUMMARY:All Recovery Meeting
DESCRIPTION:  \n\n\n\n\n\n\n\n\n\n\n\n\n\n\n\n\n\n\n\nDuring the COVID-19 Pandemic we will be hosting an all Recovery meeting twice weekly\, Monday and Thursdays from 1-2 pm. Please stay connected with us and your support groups virtually during this difficult time. You are not alone. \nLog into the WI Voices for Recovery All Recovery meetings here: \nJoin URL: https://us04web.zoom.us/j/579337497 \n\n\n\n\n\n\n\n\n\n\n\n\n\n\n\n\n\n\n\n 
URL:https://wisconsinvoicesforrecovery.org/event/all-recovery-meeting-3/
END:VEVENT
BEGIN:VEVENT
DTSTART;TZID=America/Chicago:20200402T130000
DTEND;TZID=America/Chicago:20200402T140000
DTSTAMP:20260423T171034
CREATED:20200325T145733Z
LAST-MODIFIED:20200325T145733Z
UID:2433-1585832400-1585836000@wisconsinvoicesforrecovery.org
SUMMARY:All Recovery Meeting
DESCRIPTION:  \n\n\n\n\n\n\n\n\n\n\n\n\n\n\n\n\n\n\n\nDuring the COVID-19 Pandemic we will be hosting an all Recovery meeting twice weekly\, Monday and Thursdays from 1-2 pm. Please stay connected with us and your support groups virtually during this difficult time. You are not alone. \nLog into the WI Voices for Recovery All Recovery meetings here: \nJoin URL: https://us04web.zoom.us/j/579337497 \n\n\n\n\n\n\n\n\n\n\n\n\n\n\n\n\n\n\n\n 
URL:https://wisconsinvoicesforrecovery.org/event/all-recovery-meeting-2/
END:VEVENT
BEGIN:VEVENT
DTSTART;TZID=America/Chicago:20200401T130000
DTEND;TZID=America/Chicago:20200401T133000
DTSTAMP:20260423T171034
CREATED:20200327T214644Z
LAST-MODIFIED:20200327T214644Z
UID:2490-1585746000-1585747800@wisconsinvoicesforrecovery.org
SUMMARY:Q&A with Dr. Doniere
DESCRIPTION:Join us as we speak with local and national recovery advocates as they offer advice to those in recovery on ways to stay connected. \nThis weeks guest is Dr. Julie Donier. Dr. Donier has been an Emergency Medicine Specialist for 24 years and has collaborated with ED2Recovery in Milwaukee since October 2018. \nThis weeks topics: 1. ERs role during the COVID-19 pandemic  2. ER protocols within the ED2Recovery program \nJoin URL: https://us04web.zoom.us/j/137633249 \nQ&A Dr. Doniere (1)
URL:https://wisconsinvoicesforrecovery.org/event/qa-with-dr-doniere/
ATTACH;FMTTYPE=:
END:VEVENT
BEGIN:VEVENT
DTSTART;TZID=America/Chicago:20200330T130000
DTEND;TZID=America/Chicago:20200330T140000
DTSTAMP:20260423T171034
CREATED:20200324T224758Z
LAST-MODIFIED:20200324T224758Z
UID:2422-1585573200-1585576800@wisconsinvoicesforrecovery.org
SUMMARY:All Recovery Meeting
DESCRIPTION:  \n\n\n\n\n\n\n\n\n\n\n\n\n\n\n\n\n\n\n\nDuring the COVID-19 Pandemic we will be hosting an all Recovery meeting twice weekly\, Monday and Thursdays from 1-2 pm. Please stay connected with us and your support groups virtually during this difficult time. You are not alone. \nLog into the WI Voices for Recovery All Recovery meetings here: \nJoin URL: https://us04web.zoom.us/j/579337497 \n\n\n\n\n\n\n\n\n\n\n\n\n\n\n\n\n\n\n\n 
URL:https://wisconsinvoicesforrecovery.org/event/2422/
END:VEVENT
BEGIN:VEVENT
DTSTART;TZID=America/Chicago:20200326T130000
DTEND;TZID=America/Chicago:20200326T140000
DTSTAMP:20260423T171034
CREATED:20200324T224523Z
LAST-MODIFIED:20200324T224523Z
UID:2419-1585227600-1585231200@wisconsinvoicesforrecovery.org
SUMMARY:All Recovery Meeting
DESCRIPTION:During the COVID-19 Pandemic we will be hosting an all Recovery meeting twice weekly\, Monday and Thursdays from 1-2 pm. Please stay connected with us and your support groups virtually during this difficult time. You are not alone.   \nLog into the WI Voices for Recovery All Recovery meetings here: \nhttps://uwmadison.webex.com/uwmadison/j.php?MTID=m16b01deeaf1b4e1d66432f7c5772e51b
URL:https://wisconsinvoicesforrecovery.org/event/all-recovery-meeting/
END:VEVENT
BEGIN:VEVENT
DTSTART;TZID=America/Chicago:20191116T160000
DTEND;TZID=America/Chicago:20191116T200000
DTSTAMP:20260423T171034
CREATED:20191003T122059Z
LAST-MODIFIED:20191003T122059Z
UID:2247-1573920000-1573934400@wisconsinvoicesforrecovery.org
SUMMARY:Silent Auction/ Chili Supper Benefit for Jeremy's Place
DESCRIPTION:
URL:https://wisconsinvoicesforrecovery.org/event/silent-auction-chili-supper-benefit-for-jeremys-place/
END:VEVENT
BEGIN:VEVENT
DTSTART;TZID=America/Chicago:20191116T130000
DTEND;TZID=America/Chicago:20191116T170000
DTSTAMP:20260423T171034
CREATED:20191004T131835Z
LAST-MODIFIED:20191004T131835Z
UID:2252-1573909200-1573923600@wisconsinvoicesforrecovery.org
SUMMARY:Dave Gallup Foundation 8-PIN TAP BOWLING FUNDRAISER
DESCRIPTION:TO SIGN UP CALL ROCK RIVER LANES (920) 563-9511 \nCOST: $15 A PERSON ($5 BOWLING\, $10 DONATION)
URL:https://wisconsinvoicesforrecovery.org/event/dave-gallup-foundation-8-pin-tap-bowling-fundraiser/
END:VEVENT
BEGIN:VEVENT
DTSTART;VALUE=DATE:20191113
DTEND;VALUE=DATE:20191116
DTSTAMP:20260423T171034
CREATED:20190903T140312Z
LAST-MODIFIED:20190903T140312Z
UID:2182-1573603200-1573862399@wisconsinvoicesforrecovery.org
SUMMARY:MPRC: THE NATIONAL RECOVERY CONFERENCE
DESCRIPTION:You may have noticed the change in the title from Multiple Pathways of Recovery Conference to MPRC: The National Recovery Conference. In discussions with an advisory council of more than 60 national recovery advocates and leaders\, we expand our scope. Multiple Pathways sessions are still the focus along with tracks on Recovery Coaching\, Recovery Advocacy and Self-Care.  Topics will be delivered through keynotes and workshops. Bill White will deliver the closing.     \nKeynotes:  Mark Lundholm\, Maggie Young\, Don Coyhis\, Q & A with Bill White and Don Coyhis\, Haner Hernandez \nMultiple Pathways of Recovery:  Explore several workshops on Multiple Pathways of Recovery – methods\, practices\, rituals\, programs and belief systems that foster long-term recovery.  Some pathways covered include “Anonymous” programs\, harm reduction\, Wellbriety\, medication-assisted recovery\, creativity\, art\, Yoga of Recovery\, SMART Recovery\, LifeRing secular recovery\, physical fitness\, faith-based recovery and more.   \nRecovery Coaching:  A new track this year\, hear from people with expertise on topics and programs including emergency department recovery coaching\, ethics\, Coachervision\, professionalism and asking great questions.  \n​Recovery Advocacy:  Another new track\, you’ll dive into the roots of the recovery advocacy movement and hear from prominent national organizations like Faces & Voices of Recovery and Young People in Recovery (YPR). Storytelling will be introduced this year to enhance recovery advocacy. Ryan Hampton\, Greg Williams\, Patty McCarthy-Metcalf\, Tara Moseley and Neil Campbell are slated.   \nSelf-Care:  This track became a favorite of the conference advisory committee.  Discover and/or rediscover ways to care for yourself through transformational breath\, mindful self-compassion\, nutrition\, sound healing and others.  \nWhy Punta Gorda\, Florida?  Simply\, it’s in Bill White’s backyard.  When Phil Valentine\, CCAR Executive Director\, a long-time colleague and friend of Bill White’s\, asked Bill if he’s come to CT to the first conference\, Bill could not. He no longer travels.  Bill however agreed to answer some questions on video that served as the opening keynote for the first Multiple Pathways of Recovery Conference. Click here.  The next year\, Phil asked Bill\, “What if we brought the conference to you\, would you attend?”  He willingly said yes.  This will be our 3rd year in Punta Gorda.  
URL:https://wisconsinvoicesforrecovery.org/event/mprc-the-national-recovery-conference/
END:VEVENT
BEGIN:VEVENT
DTSTART;TZID=America/Chicago:20191103T143000
DTEND;TZID=America/Chicago:20191103T190000
DTSTAMP:20260423T171034
CREATED:20191022T143138Z
LAST-MODIFIED:20191022T143138Z
UID:2303-1572791400-1572807600@wisconsinvoicesforrecovery.org
SUMMARY:Section Yellow Packer Party
DESCRIPTION:Section Yellow Packer Party \nhttps://www.facebook.com/groups/2261290113946503/?epa=SEARCH_BOX \n  \nHosted by John Plageman \n  \n\n\n\n\n                                           Sunday\, November 3\, 2019 at 2 PM – 7:30 PM\n\n\n\n                            Grounded Cafe at ADRC (Aging and Disability Resource Center)\n300 S Adams St\, Green Bay\, Wisconsin 54301 \n  \n\n\n\n(920) 448-4303 \n\nadrc@co.brown.wi.us\n\n  \n 
URL:https://wisconsinvoicesforrecovery.org/event/section-yellow-packer-party/
END:VEVENT
BEGIN:VEVENT
DTSTART;TZID=America/Chicago:20191030T180000
DTEND;TZID=America/Chicago:20191030T193000
DTSTAMP:20260423T171034
CREATED:20191009T143201Z
LAST-MODIFIED:20191009T143201Z
UID:2281-1572458400-1572463800@wisconsinvoicesforrecovery.org
SUMMARY:Parent Empowerment Night
DESCRIPTION:Join us on October 30th for the first of our Parent Empowerment Nights for Hartford Area Schools to learn about the dangerous trend of vaping\, and its impact on adolescent health. \nThis presentation is open to the public\, and parents from the following school districts are encouraged to attend: \nErin School District\nHartford Joint #1 School District\nHartford Union High School District\nHoly Hill Area School District\nHerman | Neosho | Rubicon School District \nPlease join us for a resource fair from 6-6:30\, and presentation/Q&A from 6:30-7:30 with Elevate. \n 
URL:https://wisconsinvoicesforrecovery.org/event/2281/
END:VEVENT
BEGIN:VEVENT
DTSTART;VALUE=DATE:20191029
DTEND;VALUE=DATE:20191031
DTSTAMP:20260423T171034
CREATED:20190903T143136Z
LAST-MODIFIED:20190903T143136Z
UID:2202-1572307200-1572479999@wisconsinvoicesforrecovery.org
SUMMARY:Mental Health & Substance Use Recovery Training Conference
DESCRIPTION:Conference Objectives\n\nIncrease knowledge and skills to promote wellness\, prevention\, treatment\, recovery\, best practices\, holistic care and continuous quality improvement with the use of evidence-based practices across the lifespan.\nIncrease knowledge of peer supports\, peer-run programs and topics related to Certified Peer Specialists in Wisconsin.\nIncrease knowledge and skills regarding special topics in Mental Health\, Substance Use Disorder and Integrated Treatment.\n\nWho Should Attend \n\n\nBehavioral health professionals\nPeople in recovery and family members\nClinicians in the criminal and juvenile justice system\nAdolescent treatment professionals and educators\nOthers interested in the topics discussed\n\n\nConsumer Scholarships \nA limited number of scholarships for consumers of mental health and substance use recovery services will be available for the 15th Annual Mental Health and Substance Use Recovery Training Conference.
URL:https://wisconsinvoicesforrecovery.org/event/mental-health-substance-use-recovery-training-conference/
END:VEVENT
BEGIN:VEVENT
DTSTART;TZID=America/Chicago:20191024T090000
DTEND;TZID=America/Chicago:20191024T153000
DTSTAMP:20260423T171034
CREATED:20190903T130413Z
LAST-MODIFIED:20190903T130413Z
UID:2177-1571907600-1571931000@wisconsinvoicesforrecovery.org
SUMMARY:SW WI Fall Mental Health Matters Summit 2019
DESCRIPTION:Save the Date Flyer -Draft (3) 8-29-19 – digital
URL:https://wisconsinvoicesforrecovery.org/event/sw-wi-fall-mental-health-matters-summit-2019/
END:VEVENT
BEGIN:VEVENT
DTSTART;TZID=America/Chicago:20191022T170000
DTEND;TZID=America/Chicago:20191022T200000
DTSTAMP:20260423T171034
CREATED:20191021T132448Z
LAST-MODIFIED:20191021T132448Z
UID:2297-1571763600-1571774400@wisconsinvoicesforrecovery.org
SUMMARY:Dagwaagin (Fall) Sobriety Feast
DESCRIPTION:
URL:https://wisconsinvoicesforrecovery.org/event/dagwaagin-fall-sobriety-feast/
END:VEVENT
BEGIN:VEVENT
DTSTART;TZID=America/Chicago:20191019T100000
DTEND;TZID=America/Chicago:20191019T140000
DTSTAMP:20260423T171034
CREATED:20190521T193147Z
LAST-MODIFIED:20190521T193147Z
UID:3153-1571479200-1571493600@wisconsinvoicesforrecovery.org
SUMMARY:Wisconsin Stepping on Stigma (S.O.S.)
DESCRIPTION:Join us on Saturday\, October 19th\, 2019 (rain or shine) for the 5k run/walk fundraiser for both beginners and advanced runners alike\, hosted in the heart of historic Portage\, Wisconsin. The S.O.S. run/walk is officially timed with prizes for overall winners.  Start your weekend with a morning dash\, a casual jaunt\, or just a refreshing walk. It’s a great way for supporting recovery and showing that it is possible!
URL:https://wisconsinvoicesforrecovery.org/event/wisconsin-stepping-on-stigma-s-o-s/
LOCATION:Home
END:VEVENT
BEGIN:VEVENT
DTSTART;VALUE=DATE:20191018
DTEND;VALUE=DATE:20191021
DTSTAMP:20260423T171034
CREATED:20190930T134714Z
LAST-MODIFIED:20190930T134714Z
UID:2243-1571356800-1571615999@wisconsinvoicesforrecovery.org
SUMMARY:NARCOTICS ANONYMOUS - WISCONSIN STATE CONVENTION
DESCRIPTION:Wisconsin State Convention 36\nHosting Service Body: Southeastern Family Area\nBox 2073; Kenosha WI 53141\nVenue:\nDelta Hotel (Marriott)\n7111 Washington Avenue/ Highway 20\nRacine\n262.886.6100 \nhttps://wsnac.org/ \n+ Additional Info\nAdditional Information:\nAsk for WSNAC room block; block cut off 20 Sep 2019; please see website for events registration & info
URL:https://wisconsinvoicesforrecovery.org/event/narcotics-anonymous-wisconsin-state-convention/
END:VEVENT
BEGIN:VEVENT
DTSTART;VALUE=DATE:20191018
DTEND;VALUE=DATE:20191021
DTSTAMP:20260423T171034
CREATED:20190701T140935Z
LAST-MODIFIED:20190701T140935Z
UID:3170-1571356800-1571615999@wisconsinvoicesforrecovery.org
SUMMARY:Area 75 & East Central Regional Conference – Into Action 2019
DESCRIPTION:2019 Area 75 & ECR Conference Flyer \nRegister Online:\nhttps://www.eventbrite.com/e/2019-area-75-and-ecr-conference-tickets-54786393578 \nConference schedule\nFriday\, o c t. 1 8\n3p–8p Registration\n4p-5p Presentation: Mark E. —\nEC Regional Trustee\n7:30p East Central Regional Flag Ceremony\n8p-9:30p AA Speaker: Leo S. — Knox\, IN\n9:30p Ice Cream Social\n10p-11p ECR Area Officers Sharing Session\n10p–6a Alkathon\nSaturday\, o c t. 1 9\n8a–6p Registration\n9a–10:30a Area 75 Assembly\n9a–12:30p AA / Al-Anon Panels\n12:30p-1:30p Lunch ON YOUR OWN\n1:30p–3p Al-Anon Speaker: Jeri V.— Milwaukee\, WI\n3p–4:15p AA / Al-Anon Panels\n6:00p SATURDAY NIGHT BANQUET\n7:30p Countdown\n8p–10p AA Speaker: Jim M. — Oceanside\, NY\n10p–midnight Entertainment\n10p–6a Alkathon\nSunday\, o c t. 2 0\n8:30a Breakfast Buffet\n9:30a AA Speaker: Elizabeth N. – Fox Point\, WI\n10:30a Closing
URL:https://wisconsinvoicesforrecovery.org/event/area-75-east-central-regional-conference-into-action-2019/
LOCATION:Stay informed
END:VEVENT
BEGIN:VEVENT
DTSTART;VALUE=DATE:20191015
DTEND;VALUE=DATE:20191017
DTSTAMP:20260423T171034
CREATED:20190903T142517Z
LAST-MODIFIED:20190903T142517Z
UID:2198-1571097600-1571270399@wisconsinvoicesforrecovery.org
SUMMARY:2019 Wisconsin Summit on Opioid & Meth
DESCRIPTION:“Making Progress through Collaboration” \n2nd annual Wisconsin Opioid and Meth Summit will feature trends in drug trafficking\, interdiction\, and treatment along with mod-el law enforcement\, recovery\, prevention\, and harm reduction partnerships that reduce addic-tion and enhance recovery. \nRegister On-line at:\nNorthCentralHIDTA.org\nRegistration Fee: $75.00\n Registration fee can be paid via PayPal or by check.\n Make checks payable to the LECC Training Fund.\nMail Registration Form To:\nNorth Central HIDTA\n801 West Michigan Street\nMilwaukee\, WI 53233\nAttention: Jana Macemon \nSummit Location:\nGRAND GENEVA RESORT\n7036 GRAND GENEVA WAY\nLAKE GENEVA\, WI 53147\nRegistration Fee: $75.00*\n*$75 registration fee includes lunch each day\, breaks\, and conference materials.
URL:https://wisconsinvoicesforrecovery.org/event/2019-wisconsin-summit-on-opioid-meth/
END:VEVENT
BEGIN:VEVENT
DTSTART;TZID=America/Chicago:20191012T190000
DTEND;TZID=America/Chicago:20191012T220000
DTSTAMP:20260423T171034
CREATED:20191004T132629Z
LAST-MODIFIED:20191004T132629Z
UID:2257-1570906800-1570917600@wisconsinvoicesforrecovery.org
SUMMARY:Mental Health Awareness Night / Family Night at the Green Bay Gamblers Hockey Game!! �
DESCRIPTION:https://www.facebook.com/events/378147403075923/ \nStop Heroin Now is proud to sponsor Mental Health Awareness Night // Family Night at the Green Bay Gamblers Hockey Game!! \nJoin us Saturday October 12th in Green Bay\, WI to end the stigma associated with mental health. \nWhat: Green Bay Gamblers Hockey\nWhere: Resch Center – 820 Armed Forces Dr – Green Bay\, WI 54304\nTime: 7:05 puck drop \nMental Health Awareness Night: resource tables – local organizations that are focused on mental health and well being. \nFamily Night: $2.00 hotdogs // $2.00 soda and a chance for the kiddos to skate with the players after the game! \n***To purchase tickets\, follow the link below. When checking out use the drop down to select Stop Heroin Now and $5.00 of each ticket sold will be kicked back to us to help individuals in need! \nhttps://fevo.me/2mrJm1E
URL:https://wisconsinvoicesforrecovery.org/event/mental-health-awareness-night-family-night-at-the-green-bay-gamblers-hockey-game-%ef%bf%bd/
END:VEVENT
BEGIN:VEVENT
DTSTART;TZID=America/Chicago:20191010T100000
DTEND;TZID=America/Chicago:20191010T170000
DTSTAMP:20260423T171034
CREATED:20190910T204635Z
LAST-MODIFIED:20190910T204635Z
UID:2208-1570701600-1570726800@wisconsinvoicesforrecovery.org
SUMMARY:The Communities Project Training 1: Community Organizing
DESCRIPTION:The Communities Project is aimed at equipping individuals across the country with the background and tools necessary to begin the process of organizing their communities to more effectively combat addiction. Training 1: Introduction to Community Organizing\, the first of two trainings developed as part of the Communities Project\, will focus on the nature of organizing itself\, and the manners in which it can further the progress being made by your communities.
URL:https://wisconsinvoicesforrecovery.org/event/the-communities-project-training-1-community-organizing/
END:VEVENT
BEGIN:VEVENT
DTSTART;TZID=America/Chicago:20191009T180000
DTEND;TZID=America/Chicago:20191009T200000
DTSTAMP:20260423T171034
CREATED:20191007T155408Z
LAST-MODIFIED:20191007T155408Z
UID:2274-1570644000-1570651200@wisconsinvoicesforrecovery.org
SUMMARY:Rock For Recovery
DESCRIPTION:  \n\n\n\n\n\nJoin us for our Annual Rock For Recovery Event!\nhttps://jm4c.org/wp-content/uploads/Rock-For-Recovery-Flyer-2019.pdf \nRock For Recovery will be held on October 9th at the Rock County Fairgrounds Craig Center. We hope you can make it! The Awareness Walk will step off at 6 pm\, followed by the Resource Fair\, Speaker Panel and Candlelight Vigil at 6:30. To sign up for the Awareness Walk and order your t-shirt\, please click here! \nResources for recovery\nSTART HERE! – The Rock County AODA Walk-in Clinic phone number is 608-743-2405. They can help you get started on the road to recovery. \nOther helpful phone numbers: \n\nRock County Crisis Intervention: 608-757-5025\nDROP Program (Death\, Recovery or Prison): 608-314-7019\nLifeLine 2 Recovery: 608-531-8685\n\nUse the links below to download PDF documents containing details and contact information for local substance recovery services. You can call 2-1-1 to ask about local resources. \n\nNarcan/Naloxone Access (Rock County)\nSober Living Resources (Rock County and surrounding areas)\nSober Living Resources (Dane County)\nResidential\, Inpatient\, Detox & Medication Assisted Treatment Directory (Wisconsin & Illinois)\nHope Haven Residential Treatment Program\nBeloit AA Meetings\nJanesville AA Meetings\nBadgerland Area Narcotics Anonymous Meetings\nMicah Project Application – Woman’s Recovery Home\nFamilies Fighting Addiction\nSMART Recovery\nPSG – Mental Health & Substance Use Treatment Services\nJessie Crawford Recovery Center\n\n\n\n\n\n\n 
URL:https://wisconsinvoicesforrecovery.org/event/rock-for-recovery/
END:VEVENT
BEGIN:VEVENT
DTSTART;TZID=America/Chicago:20190930T180000
DTEND;TZID=America/Chicago:20190930T200000
DTSTAMP:20260423T171034
CREATED:20190930T124737Z
LAST-MODIFIED:20190930T124737Z
UID:2238-1569866400-1569873600@wisconsinvoicesforrecovery.org
SUMMARY:Joyce's House Grand Opening
DESCRIPTION:
URL:https://wisconsinvoicesforrecovery.org/event/joyces-house-grand-opening/
END:VEVENT
BEGIN:VEVENT
DTSTART;TZID=America/Chicago:20190928T120000
DTEND;TZID=America/Chicago:20190928T200000
DTSTAMP:20260423T171034
CREATED:20190919T151512Z
LAST-MODIFIED:20190919T151512Z
UID:2216-1569672000-1569700800@wisconsinvoicesforrecovery.org
SUMMARY:3rd Annual Taste of Reovery
DESCRIPTION:
URL:https://wisconsinvoicesforrecovery.org/event/3rd-annual-taste-of-reovery/
END:VEVENT
BEGIN:VEVENT
DTSTART;TZID=America/Chicago:20190927T073000
DTEND;TZID=America/Chicago:20190927T093000
DTSTAMP:20260423T171034
CREATED:20190913T184122Z
LAST-MODIFIED:20190913T184122Z
UID:2213-1569569400-1569576600@wisconsinvoicesforrecovery.org
SUMMARY:2019 Bob Gannon Memorial Legislative Breakfast - Hosted by the Washington County Heroin Task Force and Elevate\, Inc.
DESCRIPTION:2019 Bob Gannon Memorial Legislative Breakfast \nHosted by the Washington County Heroin Task Force and Elevate\, Inc. \nJoin us\, along with state and local officials for a roundtable discussion about some of the most critical needs related to the substance abuse and behavioral health issues of our day. \nThis year the event will engage public officials and other leaders from the community in strategic discussions around our focused response to marijuana and its impact on youth prevention. \nPlease come prepared to give direct input to your legislator. \nJoin Us \nFriday\, September 27\, 2019 \n7:30-9:30 am \nTerrace 167 \n3210 Wis. Hwy. 167  \nRichfield\, WI 53076 \n  \nRSVP:  https://www.surveymonkey.com/r/NBQTP3R \n  \nFor more information\, contact Ronna Corliss \nrcorliss@elevateyou.org \n262.677.2216
URL:https://wisconsinvoicesforrecovery.org/event/2019-bob-gannon-memorial-legislative-breakfast-hosted-by-the-washington-county-heroin-task-force-and-elevate-inc/
LOCATION:w_ven_epps_headshot_edited
END:VEVENT
BEGIN:VEVENT
DTSTART;VALUE=DATE:20190926
DTEND;VALUE=DATE:20190928
DTSTAMP:20260423T171034
CREATED:20190903T142148Z
LAST-MODIFIED:20190903T142148Z
UID:2194-1569456000-1569628799@wisconsinvoicesforrecovery.org
SUMMARY:WISAM 2019 Annual Conference
DESCRIPTION:https://wisconsinsocietyofaddictionmedicine.wildapricot.org/event-3105724 \nThurs.\, September 26 & Fri.\, September 27\, 2019\nThe Pyle Center | 702 Langdon St | Madison\, WI 53706 \nConference Agenda: Click here to view schedule; Download registration brochure \nRegister Early! Early Bird Rates are available through August 15th. \nMEB Opioid Prescribing Education: This live course has been approved by the Wisconsin Medical Examining Board as meeting the requirements for the two-hour continuing education course on responsible opioid prescribing per Med 13.03(3) of the Wisconsin Administrative Code. \nOvernight Accommodations: Rooms are available on a first-come\, first-served basis at The Lowell Center\, 610 Langdon St\, Madison\, WI 53703. Book online at: http://bit.ly/wisam2019\, Other downtown Madison hotels are within walking distance to the Pyle Center. \nVendors/Exhibitors:  Register here to reserve your exhibit space. View prospectus.
URL:https://wisconsinvoicesforrecovery.org/event/wisam-2019-annual-conference/
END:VEVENT
BEGIN:VEVENT
DTSTART;TZID=America/Chicago:20190921T173000
DTEND;TZID=America/Chicago:20190921T210000
DTSTAMP:20260423T171034
CREATED:20190701T141206Z
LAST-MODIFIED:20190701T141206Z
UID:3171-1569087000-1569099600@wisconsinvoicesforrecovery.org
SUMMARY:GREATER MILWAUKEE CENTRAL OFFICE FALL FLING
DESCRIPTION:FLYER HERE: \nhttps://www.area75.org/calendar/656/flyer \nDINNER AND AA SPEAKER EVENT\nSATURDAY\, SEPTEMBER 21\, 2019\nHOSPITALITY: 5:30 PM\, DINNER: 6 PM
URL:https://wisconsinvoicesforrecovery.org/event/greater-milwaukee-central-office-fall-fling/
LOCATION:Rockin Recovery Rendezvous
END:VEVENT
BEGIN:VEVENT
DTSTART;TZID=America/Chicago:20190921T110000
DTEND;TZID=America/Chicago:20190921T140000
DTSTAMP:20260423T171034
CREATED:20190820T164247Z
LAST-MODIFIED:20190820T164247Z
UID:2122-1569063600-1569074400@wisconsinvoicesforrecovery.org
SUMMARY:Tie Dyed Bike Ride and Bring Your Own Beef Bar BQ
DESCRIPTION:What: Tie Dyed Bike Ride and Bring Your Own Beef Bar BQ \nWhen: 11 a.m. to 2 p.m. Sept. 21 \nWhere: Start at In-Courage Sauk County\, 102 Fourth Ave.\, Baraboo\, ends at Devil’s Lake State Park \nRegister: Text “ride” to 608-341-0225 \nCost: $13 for Wisconsin residents to enter park. $3 for seniors. Bike ride free; bringing meat to grill is encouraged.
URL:https://wisconsinvoicesforrecovery.org/event/tie-dyed-bike-ride-and-bring-your-own-beef-bar-bq/
END:VEVENT
END:VCALENDAR