BEGIN:VCALENDAR
VERSION:2.0
PRODID:-//Wisconsin Voices for Recovery - ECPv6.15.11//NONSGML v1.0//EN
CALSCALE:GREGORIAN
METHOD:PUBLISH
X-ORIGINAL-URL:https://wisconsinvoicesforrecovery.org
X-WR-CALDESC:Events for Wisconsin Voices for Recovery
REFRESH-INTERVAL;VALUE=DURATION:PT1H
X-Robots-Tag:noindex
X-PUBLISHED-TTL:PT1H
BEGIN:VTIMEZONE
TZID:America/Chicago
BEGIN:DAYLIGHT
TZOFFSETFROM:-0600
TZOFFSETTO:-0500
TZNAME:CDT
DTSTART:20140309T080000
END:DAYLIGHT
BEGIN:STANDARD
TZOFFSETFROM:-0500
TZOFFSETTO:-0600
TZNAME:CST
DTSTART:20141102T070000
END:STANDARD
BEGIN:DAYLIGHT
TZOFFSETFROM:-0600
TZOFFSETTO:-0500
TZNAME:CDT
DTSTART:20150308T080000
END:DAYLIGHT
BEGIN:STANDARD
TZOFFSETFROM:-0500
TZOFFSETTO:-0600
TZNAME:CST
DTSTART:20151101T070000
END:STANDARD
BEGIN:DAYLIGHT
TZOFFSETFROM:-0600
TZOFFSETTO:-0500
TZNAME:CDT
DTSTART:20160313T080000
END:DAYLIGHT
BEGIN:STANDARD
TZOFFSETFROM:-0500
TZOFFSETTO:-0600
TZNAME:CST
DTSTART:20161106T070000
END:STANDARD
END:VTIMEZONE
BEGIN:VEVENT
DTSTART;TZID=America/Chicago:20150624T130000
DTEND;TZID=America/Chicago:20150624T150000
DTSTAMP:20260424T023437
CREATED:20150527T003020Z
LAST-MODIFIED:20150527T003020Z
UID:483-1435150800-1435158000@wisconsinvoicesforrecovery.org
SUMMARY:Steps of Change - Menasha Library
DESCRIPTION:Wisconsin United We C.A.N. (Change Addiction Now) and the Menasha Public Library are excited to bring Steps of Change to their community! This free educational series brings 4 weeks of education on issues related to addiction\, recovery\, and prevention. Join Wisconsin CAN to hear speakers share their expertise and to gather information from area resources. The series will be presented as follows: \n6/24/15: Addiction and the Family \nRecognize the impacts of addiction on all members of the family and how support can help you heal. Speakers include a family therapist and family advocates. \nEach session will start with a resource fair from 6:00 pm -6:30 pm followed by speakers from 6:30 pm – 8:00 pm. Refreshments will be provided during the resource fair. Funding for this educational program is provided by an anonymous donor through the Oshkosh Community Foundation.
URL:https://wisconsinvoicesforrecovery.org/event/steps-of-change-menasha-library-3/
CATEGORIES:Social,Training
ATTACH;FMTTYPE=:
END:VEVENT
BEGIN:VEVENT
DTSTART;TZID=America/Chicago:20150610T130000
DTEND;TZID=America/Chicago:20150610T150000
DTSTAMP:20260424T023437
CREATED:20150527T002811Z
LAST-MODIFIED:20150527T002811Z
UID:482-1433941200-1433948400@wisconsinvoicesforrecovery.org
SUMMARY:Steps of Change - Menasha Library
DESCRIPTION:Wisconsin United We C.A.N. (Change Addiction Now) and the Menasha Public Library are excited to bring Steps of Change to their community! This free educational series brings 4 weeks of education on issues related to addiction\, recovery\, and prevention. Join Wisconsin CAN to hear speakers share their expertise and to gather information from area resources. The series will be presented as follows: \n6/10/15: Treatment and Recovery \nUnderstand the treatment options available and the resources in your community. Speakers include Mooring Programs\, Nova\, and Valley Health \nEach session will start with a resource fair from 6:00 pm -6:30 pm followed by speakers from 6:30 pm – 8:00 pm. Refreshments will be provided during the resource fair. Funding for this educational program is provided by an anonymous donor through the Oshkosh Community Foundation.
URL:https://wisconsinvoicesforrecovery.org/event/steps-of-change-menasha-library-2/
CATEGORIES:Social,Training
ATTACH;FMTTYPE=:
END:VEVENT
BEGIN:VEVENT
DTSTART;TZID=America/Chicago:20150603T130000
DTEND;TZID=America/Chicago:20150603T150000
DTSTAMP:20260424T023437
CREATED:20150527T002610Z
LAST-MODIFIED:20150527T002610Z
UID:478-1433336400-1433343600@wisconsinvoicesforrecovery.org
SUMMARY:Steps of Change - Menasha Library
DESCRIPTION:Wisconsin United We C.A.N. (Change Addiction Now) and the Menasha Public Library are excited to bring Steps of Change to their community! This free educational series brings 4 weeks of education on issues related to addiction\, recovery\, and prevention. Join Wisconsin CAN to hear speakers share their expertise and to gather information from area resources. The series will be presented as follows: \n6/3/15: Drugs in our Community and Legal Impacts \nLearn what drugs are in the community and how the legal system works to decrease the use and availability. Speakers include Menasha Police Dept.\, Town of Menasha Police Dept.\, Probation and Parole \nEach session will start with a resource fair from 6:00 pm -6:30 pm followed by speakers from 6:30 pm – 8:00 pm. Refreshments will be provided during the resource fair. Funding for this educational program is provided by an anonymous donor through the Oshkosh Community Foundation.
URL:https://wisconsinvoicesforrecovery.org/event/steps-of-change-menasha-library/
CATEGORIES:Social,Training
ATTACH;FMTTYPE=:
END:VEVENT
BEGIN:VEVENT
DTSTART;TZID=America/Chicago:20150601T030000
DTEND;TZID=America/Chicago:20150601T120000
DTSTAMP:20260424T023437
CREATED:20150601T213112Z
LAST-MODIFIED:20150601T213112Z
UID:3141-1433127600-1433160000@wisconsinvoicesforrecovery.org
SUMMARY:Rocking Recovery Rally 2015
DESCRIPTION:This year\, we aim to reach even more individuals and organizations in the celebration of Recovery Month in Wisconsin at this year’s  Rocking Recovery Rally! \nWhen? SATURDAY SEPT 19th from 11:00am-2:00pm \nWhere? State Capital in Madison\, WI. (State St. side) \nThose of us in recovery\, family members\, and allies – are visible\, vocal\, and valuable to the health and wellness of the greater community. Let’s join together to celebrate!  \n \nIf you are interested in being on the planning committee\, volunteering day of the event\, or being a sponsor\nplease email cmiller@dcs.wisc.edu. 
URL:https://wisconsinvoicesforrecovery.org/event/rocking-recovery-rally-2015/
CATEGORIES:Rally,Social
ATTACH;FMTTYPE=:
END:VEVENT
BEGIN:VEVENT
DTSTART;TZID=America/Chicago:20150528T120000
DTEND;TZID=America/Chicago:20150528T140000
DTSTAMP:20260424T023437
CREATED:20150330T225325Z
LAST-MODIFIED:20150330T225325Z
UID:452-1432814400-1432821600@wisconsinvoicesforrecovery.org
SUMMARY:Horizon High School 10th Anniversary Celebration and Fundraiser
DESCRIPTION:Come and celebrate 10 years of Horizon High School! More details will be coming soon!\nThursday May 28th 2015 5:00-7:00pm \nEdgewater Hotel\, Madison WI.
URL:https://wisconsinvoicesforrecovery.org/event/horizon-high-school-10th-anniversary-celebration-and-fundraiser/
ATTACH;FMTTYPE=:
END:VEVENT
BEGIN:VEVENT
DTSTART;TZID=America/Chicago:20150528T030000
DTEND;TZID=America/Chicago:20150528T120000
DTSTAMP:20260424T023437
CREATED:20150528T201440Z
LAST-MODIFIED:20150528T201440Z
UID:486-1432782000-1432814400@wisconsinvoicesforrecovery.org
SUMMARY:WIRCO (WI Recovery Community Organization) - Helping Skills Training
DESCRIPTION:The next segment of WIRCO’s Volunteer Skills Training workshop will be this Saturday\, at the WIRCO RSC\, located at 6101 University Ave\, Madison\, WI 53705\, from 3pm to 5pm.\n \nWe are very excited to welcome back those who too part in our first segment\, and we look forward to welcoming new attendees as well. The workshop will follow up with the listening skills training that Mac introduced last Saturday\, and will expand into further areas of helping.\n\n\nMake note that we also host an All Recover Meeting from 12pm to 1pm\, every Saturday\, at the RSC\, and all those who are recovering are encouraged to attend.\n\n\nAdditionally\, if anyone is in need of transportation to or from the workshop\, please inform us\, and we can attempt to make arrangements so that all those interested can attend.\n\nQuestions or to RSVP? Please contact Pat Kempfer\, Volunteer Coordinator at 608.513.2069
URL:https://wisconsinvoicesforrecovery.org/event/wirco-wi-recovery-community-organization-helping-skills-training/
ATTACH;FMTTYPE=:
END:VEVENT
BEGIN:VEVENT
DTSTART;TZID=America/Chicago:20150424T130000
DTEND;TZID=America/Chicago:20150424T180000
DTSTAMP:20260424T023437
CREATED:20150323T225245Z
LAST-MODIFIED:20150323T225245Z
UID:441-1429880400-1429898400@wisconsinvoicesforrecovery.org
SUMMARY:Spring into Recovery
DESCRIPTION:Friday April 24th at 6:00pm – 11:00pm\n\n\n\nGoodman Community Center \n149 Waubesa St\, Madison\, Wisconsin 53704\n\n\n\nPot luck and fellowship!\nThe movie The Anonymous People!\nDJ and Dancing with Greg White\n*Bring a dish to pass\, beverages will be supplied
URL:https://wisconsinvoicesforrecovery.org/event/spring-into-recovery/
CATEGORIES:Social
END:VEVENT
BEGIN:VEVENT
DTSTART;TZID=America/Chicago:20150306T053000
DTEND;TZID=America/Chicago:20150306T070000
DTSTAMP:20260424T023437
CREATED:20150216T220008Z
LAST-MODIFIED:20150216T220008Z
UID:405-1425619800-1425625200@wisconsinvoicesforrecovery.org
SUMMARY:Three Voices Making a Difference for Recovery
DESCRIPTION:This exclusive luncheon for WI professionals and policy makers will feature speakers including Flo Hilliard\, Director of Wisconsin Voices for Recovery\, Attorney General Brad Schimel\, and advocates from Your Choice. The event will focus on bridging the gap between recovery and addiction.
URL:https://wisconsinvoicesforrecovery.org/event/three-voices-making-difference-recovery/
LOCATION:loveus
END:VEVENT
BEGIN:VEVENT
DTSTART;TZID=America/Chicago:20150226T060000
DTEND;TZID=America/Chicago:20150226T070000
DTSTAMP:20260424T023437
CREATED:20150213T004945Z
LAST-MODIFIED:20150213T004945Z
UID:400-1424930400-1424934000@wisconsinvoicesforrecovery.org
SUMMARY:Advisory Council Meeting
DESCRIPTION:Advisory Council members to join as a statewide committee to address issues related to recovery advocacy in the state of Wisconsin. Peer leadership is the foundation for Wisconsin Voices for Recovery.
URL:https://wisconsinvoicesforrecovery.org/event/advisory-council-meeting/
CATEGORIES:Advisory Council Meeting
END:VEVENT
END:VCALENDAR