BEGIN:VCALENDAR
VERSION:2.0
PRODID:-//Wisconsin Voices for Recovery - ECPv6.15.11//NONSGML v1.0//EN
CALSCALE:GREGORIAN
METHOD:PUBLISH
X-WR-CALNAME:Wisconsin Voices for Recovery
X-ORIGINAL-URL:https://wisconsinvoicesforrecovery.org
X-WR-CALDESC:Events for Wisconsin Voices for Recovery
REFRESH-INTERVAL;VALUE=DURATION:PT1H
X-Robots-Tag:noindex
X-PUBLISHED-TTL:PT1H
BEGIN:VTIMEZONE
TZID:America/Chicago
BEGIN:DAYLIGHT
TZOFFSETFROM:-0600
TZOFFSETTO:-0500
TZNAME:CDT
DTSTART:20140309T080000
END:DAYLIGHT
BEGIN:STANDARD
TZOFFSETFROM:-0500
TZOFFSETTO:-0600
TZNAME:CST
DTSTART:20141102T070000
END:STANDARD
BEGIN:DAYLIGHT
TZOFFSETFROM:-0600
TZOFFSETTO:-0500
TZNAME:CDT
DTSTART:20150308T080000
END:DAYLIGHT
BEGIN:STANDARD
TZOFFSETFROM:-0500
TZOFFSETTO:-0600
TZNAME:CST
DTSTART:20151101T070000
END:STANDARD
BEGIN:DAYLIGHT
TZOFFSETFROM:-0600
TZOFFSETTO:-0500
TZNAME:CDT
DTSTART:20160313T080000
END:DAYLIGHT
BEGIN:STANDARD
TZOFFSETFROM:-0500
TZOFFSETTO:-0600
TZNAME:CST
DTSTART:20161106T070000
END:STANDARD
BEGIN:DAYLIGHT
TZOFFSETFROM:-0600
TZOFFSETTO:-0500
TZNAME:CDT
DTSTART:20170312T080000
END:DAYLIGHT
BEGIN:STANDARD
TZOFFSETFROM:-0500
TZOFFSETTO:-0600
TZNAME:CST
DTSTART:20171105T070000
END:STANDARD
BEGIN:DAYLIGHT
TZOFFSETFROM:-0600
TZOFFSETTO:-0500
TZNAME:CDT
DTSTART:20180311T080000
END:DAYLIGHT
BEGIN:STANDARD
TZOFFSETFROM:-0500
TZOFFSETTO:-0600
TZNAME:CST
DTSTART:20181104T070000
END:STANDARD
BEGIN:DAYLIGHT
TZOFFSETFROM:-0600
TZOFFSETTO:-0500
TZNAME:CDT
DTSTART:20190310T080000
END:DAYLIGHT
BEGIN:STANDARD
TZOFFSETFROM:-0500
TZOFFSETTO:-0600
TZNAME:CST
DTSTART:20191103T070000
END:STANDARD
BEGIN:DAYLIGHT
TZOFFSETFROM:-0600
TZOFFSETTO:-0500
TZNAME:CDT
DTSTART:20200308T080000
END:DAYLIGHT
BEGIN:STANDARD
TZOFFSETFROM:-0500
TZOFFSETTO:-0600
TZNAME:CST
DTSTART:20201101T070000
END:STANDARD
END:VTIMEZONE
BEGIN:VEVENT
DTSTART;TZID=America/Chicago:20190710T180000
DTEND;TZID=America/Chicago:20190710T190000
DTSTAMP:20260423T234746
CREATED:20190701T131415Z
LAST-MODIFIED:20190701T131415Z
UID:3163-1562781600-1562785200@wisconsinvoicesforrecovery.org
SUMMARY:Free Narcan Training
DESCRIPTION:
URL:https://wisconsinvoicesforrecovery.org/event/free-narcan-training/
LOCATION:JG-e1495134201508
END:VEVENT
BEGIN:VEVENT
DTSTART;TZID=America/Chicago:20190704T160000
DTEND;TZID=America/Chicago:20190704T220000
DTSTAMP:20260423T234746
CREATED:20190701T142605Z
LAST-MODIFIED:20190701T142605Z
UID:3174-1562256000-1562277600@wisconsinvoicesforrecovery.org
SUMMARY:4th OF JULY CELEBRATION
DESCRIPTION:4th of July Celebration at the Grace House\, 108 W. Somo Avenue in Tomahawk\, WI. from 4 p.m. til the end of the fireworks! See flyer below…. \n4th of July 2019\nJoin us in celebrating our nation’s independence \n  \n  \nWhere:  Grace House—Tomahawk \n(108 west Somo Avenue) \n  \nTIME: 4:00 p.m. through the end of the fireworks. \n  \nWHAT TO BRING: Whatever you would like to throw on the grill\, a dish to share\, and lawn chairs. Grill will fire up at 5 p.m. \n  \nBring the family and enjoy an afternoon/evening of eating\, games\, (corn hole)\, fellowship\, and fireworks!! \n  \nHOPE TO SEE YOU!!!
URL:https://wisconsinvoicesforrecovery.org/event/4th-of-july-celebration/
LOCATION:Rockin' Recovery Rally Sept. 19th – a Statewide event to celebrate Recovery Month in WI
END:VEVENT
BEGIN:VEVENT
DTSTART;TZID=America/Chicago:20190626T120000
DTEND;TZID=America/Chicago:20190626T130000
DTSTAMP:20260423T234746
CREATED:20190531T151547Z
LAST-MODIFIED:20190531T151547Z
UID:3155-1561550400-1561554000@wisconsinvoicesforrecovery.org
SUMMARY:Your Choice Live Narcan Training
DESCRIPTION:June 26 \nRegister for a training!\nThis training teaches participants to respond to an opioid-associated overdose emergency and is appropriate for members of the community\, family\, friends\, and bystanders. Each training includes a Narcan kit. \nRegister here:  http://www.yourchoice-live.org/narcan-training
URL:https://wisconsinvoicesforrecovery.org/event/your-choice-live-narcan-training-2/
ATTACH;FMTTYPE=:
END:VEVENT
BEGIN:VEVENT
DTSTART;TZID=America/Chicago:20190622T100000
DTEND;TZID=America/Chicago:20190622T190000
DTSTAMP:20260423T234746
CREATED:20190521T192235Z
LAST-MODIFIED:20190521T192235Z
UID:3151-1561197600-1561230000@wisconsinvoicesforrecovery.org
SUMMARY:Devil's Lake Trip w/ Ignite Recovery
DESCRIPTION:We are excited to meet up June 22nd to connect with people in recovery from across our state! Ignite Recovery is an active lifestyle community and we cannot wait to share our passion for recovery and the outdoors with everyone. \nhttps://www.facebook.com/events/836566473364357/
URL:https://wisconsinvoicesforrecovery.org/event/devils-lake-trip-w-ignite-recovery/
LOCATION:3 (1)
END:VEVENT
BEGIN:VEVENT
DTSTART;TZID=America/Chicago:20190622T090000
DTEND;TZID=America/Chicago:20190622T110000
DTSTAMP:20260423T234746
CREATED:20190621T135959Z
LAST-MODIFIED:20190621T135959Z
UID:3161-1561194000-1561201200@wisconsinvoicesforrecovery.org
SUMMARY:Rock On to Wellness 2019
DESCRIPTION:Join Aurora Health Care and Summerfest in making healthy happen at Rock On to Wellness 2019! A FREE community event celebrating women and ways to stay active and promote a holistic sense of wellness. \nFocusing on mind and body\, the program will feature a dynamic interval training workout by Shred415 East Side\, which will be DJ-ed live by DJ Shawna! Then\, cool down with yoga and meditation. The event will also feature food and beverage sampling from KIND Snacks\, FreshFin Poke\, Fresh Thyme Farmers Market\, bubly sparkling water\, and more! With the Summerfest North Gate and beautiful lakefront as the backdrop\, this event can’t be missed! \nThe first 250 to check in at the event will also receive a free T-shirt featuring our Rosie the Rocker design (unisex\, runs true to size)!  \nhttps://www.eventbrite.com/e/rock-on-to-wellness-2019-tickets-61993829212
URL:https://wisconsinvoicesforrecovery.org/event/rock-on-to-wellness-2019/
LOCATION:discover-6
END:VEVENT
BEGIN:VEVENT
DTSTART;VALUE=DATE:20190617
DTEND;VALUE=DATE:20190620
DTSTAMP:20260423T234746
CREATED:20190521T191653Z
LAST-MODIFIED:20190521T191653Z
UID:3150-1560729600-1560988799@wisconsinvoicesforrecovery.org
SUMMARY:Faces & Voices of Recovery ARCO Leadership Summit
DESCRIPTION:The ARCO National Leadership Summit brings together key leaders from ARCO member organizations for workshops\, plenary speakers\, networking. Up to five members of each ARCO organization are invited to attend. Please plan to send key leaders (i.e. Executive Director\, Board Members).
URL:https://wisconsinvoicesforrecovery.org/event/faces-voices-of-recovery-arco-leadership-summit/
LOCATION:Home
END:VEVENT
BEGIN:VEVENT
DTSTART;TZID=America/Chicago:20190614T080000
DTEND;TZID=America/Chicago:20190614T153000
DTSTAMP:20260423T234746
CREATED:20190521T191323Z
LAST-MODIFIED:20190521T191323Z
UID:3149-1560499200-1560526200@wisconsinvoicesforrecovery.org
SUMMARY:Trauma in Our Community Conference
DESCRIPTION:Insightful Conversation\, Collective Action\nJoin us at the third annual Trauma in Our Community conference for a day of learning\, sharing and exploring – with a focus on progress in public health and the practical conversations needed for action. We\, individually and collectively\, are part of the dialogue and the solution. \nThis conference is intended for teachers\, school and youth counselors\, psychologists\, social workers\, medical providers\, parents and foster parents\, and anyone interested in addressing trauma care throughout the health care system. \nJoin the conversation…be part of the solution.
URL:https://wisconsinvoicesforrecovery.org/event/trauma-in-our-community-conference/
END:VEVENT
BEGIN:VEVENT
DTSTART;TZID=America/Chicago:20190608T090000
DTEND;TZID=America/Chicago:20190608T110000
DTSTAMP:20260423T234746
CREATED:20190607T020610Z
LAST-MODIFIED:20190607T020610Z
UID:3158-1559984400-1559991600@wisconsinvoicesforrecovery.org
SUMMARY:COLOR RUN 2019
DESCRIPTION:MMC and the Ashland Parks and Recreation are hosting a FUN Color Run! There will be two runs – the 5K will start at 9am and the 1K will start at 10am. \nRegister at Ashland Parks & Recreation/Bretting Center or online at https://ashlandparks.org/CourseActivities.aspx?id=42. \nAll proceeds go to The Partners in Recovery Drop In Center (PIRC). \n1K Run (all ages) = $10\n5K Run (all ages) = $15\nFamily rate (up to 2 adults & children 18 & under) for 1K and 5K Run = $30 \nhttp://www.northlandrunner.com/run?page=Race&raceId=2536 \nhttps://www.facebook.com/events/338425990191385/
URL:https://wisconsinvoicesforrecovery.org/event/color-run-2019/
LOCATION:Regional Map
END:VEVENT
BEGIN:VEVENT
DTSTART;TZID=America/Chicago:20190608T080000
DTEND;TZID=America/Chicago:20190608T120000
DTSTAMP:20260423T234746
CREATED:20190521T190909Z
LAST-MODIFIED:20190521T190909Z
UID:3148-1559980800-1559995200@wisconsinvoicesforrecovery.org
SUMMARY:Ethan's Run Against Addiction
DESCRIPTION:Ethan Monson-Dupuis died at age 25 from an accidental heroin overdose in 2016.  Join us in the effort to destigmatize addiction.  Help raise awareness that addiction is a brain disease\, not a character flaw or lack of will power. \nRun or walk in honor of someone who is in recovery or who had lost their fight. \nAll proceeds go to The Ethan Monson-Dupuis Opiate Recovery Fund through Aurora Health Care.
URL:https://wisconsinvoicesforrecovery.org/event/ethans-run-against-addiction/
END:VEVENT
BEGIN:VEVENT
DTSTART;TZID=America/Chicago:20190606T120000
DTEND;TZID=America/Chicago:20190606T130000
DTSTAMP:20260423T234746
CREATED:20190531T151330Z
LAST-MODIFIED:20190531T151330Z
UID:3154-1559822400-1559826000@wisconsinvoicesforrecovery.org
SUMMARY:Your Choice Live Narcan Training
DESCRIPTION:June 1 \nRegister for a training!\nThis training teaches participants to respond to an opioid-associated overdose emergency and is appropriate for members of the community\, family\, friends\, and bystanders. Each training includes a Narcan kit. \n  \nRegister here:  http://www.yourchoice-live.org/narcan-training
URL:https://wisconsinvoicesforrecovery.org/event/your-choice-live-narcan-training/
ATTACH;FMTTYPE=:
END:VEVENT
BEGIN:VEVENT
DTSTART;TZID=America/Chicago:20190601T190000
DTEND;TZID=America/Chicago:20190601T230000
DTSTAMP:20260423T234746
CREATED:20190521T185905Z
LAST-MODIFIED:20190521T185905Z
UID:3147-1559415600-1559430000@wisconsinvoicesforrecovery.org
SUMMARY:Hope Festival
DESCRIPTION:WisHope Presents The HOPE Festival featuring Greg Koch & The Koch-Marshall Trio & Willy Porter “Live”
URL:https://wisconsinvoicesforrecovery.org/event/hope-festival/
END:VEVENT
BEGIN:VEVENT
DTSTART;TZID=America/Chicago:20190601T130000
DTEND;TZID=America/Chicago:20190601T153000
DTSTAMP:20260423T234746
CREATED:20190521T190409Z
LAST-MODIFIED:20190521T190409Z
UID:1750-1559394000-1559403000@wisconsinvoicesforrecovery.org
SUMMARY:Ignite Recovery Fundraiser WOD and Grilling
DESCRIPTION:
URL:https://wisconsinvoicesforrecovery.org/event/ignite-recovery-fundraiser-wod-and-grilling/
LOCATION:Home
END:VEVENT
BEGIN:VEVENT
DTSTART;TZID=America/Chicago:20190422T080000
DTEND;TZID=America/Chicago:20190425T170000
DTSTAMP:20260423T234746
CREATED:20190307T035736Z
LAST-MODIFIED:20190307T035736Z
UID:1534-1555920000-1556211600@wisconsinvoicesforrecovery.org
SUMMARY:Rx Drug Abuse and Heroin Summit
DESCRIPTION:Be Part of the Largest Annual Conference Addressing the Opioid Crisis\nApril 22–25\, 2019 | Atlanta\, GA\n\n\nThe Rx Drug Abuse & Heroin Summit is where solutions are formulated\, stakeholders from Federal to family convene\, and change begins. It is the annual gathering for stakeholders to discuss what’s working in prevention and treatment. Notable speakers in past years have included President Barack Obama in 2016\, Congressmen Patrick Kennedy and Newt Gingrich in 2017\, and President Bill Clinton and Counselor to the President\, Kellyanne Conway in 2018. Be part of the international discussion on addressing the opioid crisis by attending the 2019 Rx Drug Abuse & Heroin Summit in Atlanta.
URL:https://wisconsinvoicesforrecovery.org/event/rx-drug-abuse-and-heroin-summit/
END:VEVENT
BEGIN:VEVENT
DTSTART;TZID=America/Chicago:20190403T080000
DTEND;TZID=America/Chicago:20190403T170000
DTSTAMP:20260423T234746
CREATED:20190307T035443Z
LAST-MODIFIED:20190307T035443Z
UID:1532-1554278400-1554310800@wisconsinvoicesforrecovery.org
SUMMARY:ED2Recovery award notification
DESCRIPTION:Award notification
URL:https://wisconsinvoicesforrecovery.org/event/ed2recovery-award-notification/
END:VEVENT
BEGIN:VEVENT
DTSTART;TZID=America/Chicago:20190403T080000
DTEND;TZID=America/Chicago:20190403T170000
DTSTAMP:20260423T234746
CREATED:20190307T035355Z
LAST-MODIFIED:20190307T035355Z
UID:1530-1554278400-1554310800@wisconsinvoicesforrecovery.org
SUMMARY:Recovery Alignment Day
DESCRIPTION:Recovery Alignment Day
URL:https://wisconsinvoicesforrecovery.org/event/recovery-alignment-day/
END:VEVENT
BEGIN:VEVENT
DTSTART;TZID=America/Chicago:20190319T080000
DTEND;TZID=America/Chicago:20190319T170000
DTSTAMP:20260423T234746
CREATED:20190307T035055Z
LAST-MODIFIED:20190307T035055Z
UID:3145-1552982400-1553014800@wisconsinvoicesforrecovery.org
SUMMARY:Opioid Forum
DESCRIPTION:Opioid Forum in Green Bay
URL:https://wisconsinvoicesforrecovery.org/event/opioid-forum/
END:VEVENT
BEGIN:VEVENT
DTSTART;TZID=America/Chicago:20190315T080000
DTEND;TZID=America/Chicago:20190315T170000
DTSTAMP:20260423T234746
CREATED:20190307T034907Z
LAST-MODIFIED:20190307T034907Z
UID:1526-1552636800-1552669200@wisconsinvoicesforrecovery.org
SUMMARY:ED2Recovery RFP applications due
DESCRIPTION:ED2Recovery RFP applications due before 5pm
URL:https://wisconsinvoicesforrecovery.org/event/ed2recovery-rfp-applications-due/
END:VEVENT
BEGIN:VEVENT
DTSTART;TZID=America/Chicago:20151009T030000
DTEND;TZID=America/Chicago:20151009T110000
DTSTAMP:20260423T234746
CREATED:20150616T221710Z
LAST-MODIFIED:20150616T221710Z
UID:3143-1444359600-1444388400@wisconsinvoicesforrecovery.org
SUMMARY:Help & Hope for the Future: Serving Those with Substance Use Disorders Conference
DESCRIPTION:Help & Hope\, presented by Hope Council on Alcohol & Other Drug Abuse and Coordinated Response to Child Abuse (CO-RE)\, is a conference intended to assist professionals and para-professionals who work with families and individuals for whom substance abuse is a concern. This low-cost conference brings experts in the field of alcohol and other drug addiction to provide fresh perspectives on how to serve children and families who suffer the effects of substance abuse. \n\n\n\nRegistration Fees\nIndividual Rate\nGroup Rate (5 or more)\n\n\nEarly Bird (by Sept. 11)    \n$89\n$79\n\n\nRegular (after Sept. 11)\n$109\n$99\n\n\n\nLimited partial scholarships are available.  Contact us to register by phone. 262-595-3340 \n\nCEUs \n  \nThis conference provides 0.7 (7 hours) of continuing education units. If you are requesting CEUs\, please independently verify CEUs with your licensing agency. CEU certificates require an application fee of $15 and will be mailed to you after the conference. \nCertificate of Attendance will be provided at no charge to all conference participants on the day of the conference. \n\n  \nCheck In \nRegistration begins at 7:30 am\nConference Time: 8 am – 4 pm\nMorning refreshments and lunch are included in this event. \nNote: rooms can feel chilly\, so please bring a sweater.
URL:https://wisconsinvoicesforrecovery.org/event/help-hope-for-the-future-serving-those-with-substance-use-disorders-conference/
LOCATION:vneck-tee-2.jpg
ATTACH;FMTTYPE=image/jpeg:https://wisconsinvoicesforrecovery.org/wp-content/uploads/2020/06/vnech-tee-green-1.jpg
END:VEVENT
BEGIN:VEVENT
DTSTART;TZID=America/Chicago:20150921T061500
DTEND;TZID=America/Chicago:20150921T083000
DTSTAMP:20260423T234746
CREATED:20150601T212007Z
LAST-MODIFIED:20150601T212007Z
UID:493-1442816100-1442824200@wisconsinvoicesforrecovery.org
SUMMARY:Recovery Foundation Luncheon
DESCRIPTION:Mark your calendar for the 2015 Voices for Recovery Luncheon to hear Dr. Andrea Barthwell present Parents Academy. \n\n \n\n\n\nMonday\, September 21\, 2015\n\n\n\nMarriott Madison West\n\n1313 John Q Hammons Drive\n Middleton\, Wisconsin  53562\n10:00 – 11:30 a.m. Registration \nand Networking\n\n11:30 a.m. – 1:15 p.m. Luncheon\n\nThe Recovery Foundation is excited to announce the 6th annual Recovery Foundation Luncheon sponsored by Rosecrance and Connections Counseling. The foundation’s primary purpose is to provide funds supporting individuals and families in need of substance abuse and mental health services.  Additionally\, the Recovery Foundation provides community awareness and education. Please join us for this inspiring event.\n\n \nTreatment works!\n\nRegistration will open July 1. \nFor more information\, contact Kristin at support@recoveryfoundation.net
URL:https://wisconsinvoicesforrecovery.org/event/recovery-foundation-luncheon/
CATEGORIES:Social
ATTACH;FMTTYPE=:
END:VEVENT
BEGIN:VEVENT
DTSTART;TZID=America/Chicago:20150919T060000
DTEND;TZID=America/Chicago:20150919T090000
DTSTAMP:20260423T234746
CREATED:20150601T213904Z
LAST-MODIFIED:20150601T213904Z
UID:3142-1442642400-1442653200@wisconsinvoicesforrecovery.org
SUMMARY:Rocking Recovery Rally
DESCRIPTION:This year’s National Recovery Month theme is: Visible\, Vocal\, and Valuable!  \nThose of us in recovery\, family members\, and allies – are visible\, vocal\, and valuable to the health and wellness of the greater community.\n\nJoin us in celebrating at Rocking Recovery Rally!\n\nWhen? September 19th 11:00am-2:00pm\nWhere? Wisconsin State Capital (State Street side)
URL:https://wisconsinvoicesforrecovery.org/event/rocking-recovery-rally/
ATTACH;FMTTYPE=:
END:VEVENT
BEGIN:VEVENT
DTSTART;TZID=America/Chicago:20150912T030000
DTEND;TZID=America/Chicago:20150912T070000
DTSTAMP:20260423T234746
CREATED:20150330T232628Z
LAST-MODIFIED:20150330T232628Z
UID:455-1442026800-1442041200@wisconsinvoicesforrecovery.org
SUMMARY:Milwaukee Walk for Recovery
DESCRIPTION:SAVE THE DATE!\nSaturday Sept. 12th \nMeet at Milwaukee Alano Club \n1521 N. Prospect Ave. \n*More details coming soon!
URL:https://wisconsinvoicesforrecovery.org/event/milwaukee-walk-for-recovery/
ATTACH;FMTTYPE=:
END:VEVENT
BEGIN:VEVENT
DTSTART;TZID=America/Chicago:20150718T050000
DTEND;TZID=America/Chicago:20150718T100000
DTSTAMP:20260423T234746
CREATED:20150617T232546Z
LAST-MODIFIED:20150617T232546Z
UID:3144-1437195600-1437213600@wisconsinvoicesforrecovery.org
SUMMARY:Washington County Stop Heroin Rally 2015
DESCRIPTION:Stop Heroin Now and Affiliated Clinical Services will be hosting a County Wide Stop Heroin Rally once again this year in Washington County! Please plan to attend this awesome event on July 18\, 2015 and rally your troops to support the fight against Heroin! Make a sign and march the street\, participate in a memorial balloon launch or enjoy a brat fry! Stop by and visit with your some of your favorite Wisconsin advocacy groups such as Stop Heroin Now\, Project Second Start and Rise Together! Rise Together Founders\, Anthony Alvarado and Douglas Darby will be speaking to the crowd at 11:30am sharp! You won’t want to miss this motivational presentation! Stop Heroin Now’s President Abby Baumgart Hendrix and VP Jessica Goddard-Geschke will be speaking on the support needed for addiction and recovery treatment and how we can all be the solution! Therapist from Affiliated Clinical Services and Alarus Healthcare will be on hand to discuss treatment options in the Washington County Area. Members of the Washington County Heroin Task Force will also be on hand to discuss how you can get involved in your community and WI CAN Washington County will be available for anyone needing extra support. We will have a dunk tank\, face painting and a silent auction as well\, so come on out and BE A PART OF THE SOLUTION!!
URL:https://wisconsinvoicesforrecovery.org/event/washington-county-stop-heroin-rally-2015/
LOCATION:vnech-tee-green-1.jpg
CATEGORIES:Rally,Social
ATTACH;FMTTYPE=image/jpeg:https://wisconsinvoicesforrecovery.org/wp-content/uploads/2020/06/vnech-tee-green-1-4.jpg
END:VEVENT
BEGIN:VEVENT
DTSTART;TZID=America/Chicago:20150701T130000
DTEND;TZID=America/Chicago:20150701T150000
DTSTAMP:20260423T234746
CREATED:20150527T003238Z
LAST-MODIFIED:20150527T003238Z
UID:484-1435755600-1435762800@wisconsinvoicesforrecovery.org
SUMMARY:Steps of Change - Menasha Library
DESCRIPTION:Wisconsin United We C.A.N. (Change Addiction Now) and the Menasha Public Library are excited to bring Steps of Change to their community! This free educational series brings 4 weeks of education on issues related to addiction\, recovery\, and prevention. Join Wisconsin CAN to hear speakers share their expertise and to gather information from area resources. The series will be presented as follows: \n7/1/15: Awareness and Prevention \nIdentify opportunities to educate your family and prevent the use of drugs or reduce the likelihood of the disease of addiction. Speakers include several prevention advocates and DARE officer. \nEach session will start with a resource fair from 6:00 pm -6:30 pm followed by speakers from 6:30 pm – 8:00 pm. Refreshments will be provided during the resource fair. Funding for this educational program is provided by an anonymous donor through the Oshkosh Community Foundation.
URL:https://wisconsinvoicesforrecovery.org/event/steps-of-change-menasha-library-4/
CATEGORIES:Social,Training
ATTACH;FMTTYPE=:
END:VEVENT
BEGIN:VEVENT
DTSTART;TZID=America/Chicago:20150627T040000
DTEND;TZID=America/Chicago:20150627T110000
DTSTAMP:20260423T234746
CREATED:20150330T223741Z
LAST-MODIFIED:20150330T223741Z
UID:3140-1435377600-1435402800@wisconsinvoicesforrecovery.org
SUMMARY:Ripple Effects - Awareness Day
DESCRIPTION:Marywood Franciscan Spirituality Center is hosting\, The Ripple Effects of Addiction Awareness Day\, which celebrates the success of spirituality in recovery!\nFood\, fellowship\, speakers\, question & answer forums\, and childcare provided! \nSaturday June 27th 9:00am-4:00pm at the Franciscan Spirituality Center in Arbor Vitae\, WI. \nRSVP by June 12th to reserve your spot by calling: (715) 385-3750
URL:https://wisconsinvoicesforrecovery.org/event/ripple-effects-awareness-day/
CATEGORIES:Social
ATTACH;FMTTYPE=:
END:VEVENT
BEGIN:VEVENT
DTSTART;TZID=America/Chicago:20150624T130000
DTEND;TZID=America/Chicago:20150624T150000
DTSTAMP:20260423T234746
CREATED:20150527T003020Z
LAST-MODIFIED:20150527T003020Z
UID:483-1435150800-1435158000@wisconsinvoicesforrecovery.org
SUMMARY:Steps of Change - Menasha Library
DESCRIPTION:Wisconsin United We C.A.N. (Change Addiction Now) and the Menasha Public Library are excited to bring Steps of Change to their community! This free educational series brings 4 weeks of education on issues related to addiction\, recovery\, and prevention. Join Wisconsin CAN to hear speakers share their expertise and to gather information from area resources. The series will be presented as follows: \n6/24/15: Addiction and the Family \nRecognize the impacts of addiction on all members of the family and how support can help you heal. Speakers include a family therapist and family advocates. \nEach session will start with a resource fair from 6:00 pm -6:30 pm followed by speakers from 6:30 pm – 8:00 pm. Refreshments will be provided during the resource fair. Funding for this educational program is provided by an anonymous donor through the Oshkosh Community Foundation.
URL:https://wisconsinvoicesforrecovery.org/event/steps-of-change-menasha-library-3/
CATEGORIES:Social,Training
ATTACH;FMTTYPE=:
END:VEVENT
BEGIN:VEVENT
DTSTART;TZID=America/Chicago:20150610T130000
DTEND;TZID=America/Chicago:20150610T150000
DTSTAMP:20260423T234746
CREATED:20150527T002811Z
LAST-MODIFIED:20150527T002811Z
UID:482-1433941200-1433948400@wisconsinvoicesforrecovery.org
SUMMARY:Steps of Change - Menasha Library
DESCRIPTION:Wisconsin United We C.A.N. (Change Addiction Now) and the Menasha Public Library are excited to bring Steps of Change to their community! This free educational series brings 4 weeks of education on issues related to addiction\, recovery\, and prevention. Join Wisconsin CAN to hear speakers share their expertise and to gather information from area resources. The series will be presented as follows: \n6/10/15: Treatment and Recovery \nUnderstand the treatment options available and the resources in your community. Speakers include Mooring Programs\, Nova\, and Valley Health \nEach session will start with a resource fair from 6:00 pm -6:30 pm followed by speakers from 6:30 pm – 8:00 pm. Refreshments will be provided during the resource fair. Funding for this educational program is provided by an anonymous donor through the Oshkosh Community Foundation.
URL:https://wisconsinvoicesforrecovery.org/event/steps-of-change-menasha-library-2/
CATEGORIES:Social,Training
ATTACH;FMTTYPE=:
END:VEVENT
BEGIN:VEVENT
DTSTART;TZID=America/Chicago:20150603T130000
DTEND;TZID=America/Chicago:20150603T150000
DTSTAMP:20260423T234746
CREATED:20150527T002610Z
LAST-MODIFIED:20150527T002610Z
UID:478-1433336400-1433343600@wisconsinvoicesforrecovery.org
SUMMARY:Steps of Change - Menasha Library
DESCRIPTION:Wisconsin United We C.A.N. (Change Addiction Now) and the Menasha Public Library are excited to bring Steps of Change to their community! This free educational series brings 4 weeks of education on issues related to addiction\, recovery\, and prevention. Join Wisconsin CAN to hear speakers share their expertise and to gather information from area resources. The series will be presented as follows: \n6/3/15: Drugs in our Community and Legal Impacts \nLearn what drugs are in the community and how the legal system works to decrease the use and availability. Speakers include Menasha Police Dept.\, Town of Menasha Police Dept.\, Probation and Parole \nEach session will start with a resource fair from 6:00 pm -6:30 pm followed by speakers from 6:30 pm – 8:00 pm. Refreshments will be provided during the resource fair. Funding for this educational program is provided by an anonymous donor through the Oshkosh Community Foundation.
URL:https://wisconsinvoicesforrecovery.org/event/steps-of-change-menasha-library/
CATEGORIES:Social,Training
ATTACH;FMTTYPE=:
END:VEVENT
BEGIN:VEVENT
DTSTART;TZID=America/Chicago:20150601T030000
DTEND;TZID=America/Chicago:20150601T120000
DTSTAMP:20260423T234746
CREATED:20150601T213112Z
LAST-MODIFIED:20150601T213112Z
UID:3141-1433127600-1433160000@wisconsinvoicesforrecovery.org
SUMMARY:Rocking Recovery Rally 2015
DESCRIPTION:This year\, we aim to reach even more individuals and organizations in the celebration of Recovery Month in Wisconsin at this year’s  Rocking Recovery Rally! \nWhen? SATURDAY SEPT 19th from 11:00am-2:00pm \nWhere? State Capital in Madison\, WI. (State St. side) \nThose of us in recovery\, family members\, and allies – are visible\, vocal\, and valuable to the health and wellness of the greater community. Let’s join together to celebrate!  \n \nIf you are interested in being on the planning committee\, volunteering day of the event\, or being a sponsor\nplease email cmiller@dcs.wisc.edu. 
URL:https://wisconsinvoicesforrecovery.org/event/rocking-recovery-rally-2015/
CATEGORIES:Rally,Social
ATTACH;FMTTYPE=:
END:VEVENT
BEGIN:VEVENT
DTSTART;TZID=America/Chicago:20150528T120000
DTEND;TZID=America/Chicago:20150528T140000
DTSTAMP:20260423T234746
CREATED:20150330T225325Z
LAST-MODIFIED:20150330T225325Z
UID:452-1432814400-1432821600@wisconsinvoicesforrecovery.org
SUMMARY:Horizon High School 10th Anniversary Celebration and Fundraiser
DESCRIPTION:Come and celebrate 10 years of Horizon High School! More details will be coming soon!\nThursday May 28th 2015 5:00-7:00pm \nEdgewater Hotel\, Madison WI.
URL:https://wisconsinvoicesforrecovery.org/event/horizon-high-school-10th-anniversary-celebration-and-fundraiser/
ATTACH;FMTTYPE=:
END:VEVENT
BEGIN:VEVENT
DTSTART;TZID=America/Chicago:20150528T030000
DTEND;TZID=America/Chicago:20150528T120000
DTSTAMP:20260423T234746
CREATED:20150528T201440Z
LAST-MODIFIED:20150528T201440Z
UID:486-1432782000-1432814400@wisconsinvoicesforrecovery.org
SUMMARY:WIRCO (WI Recovery Community Organization) - Helping Skills Training
DESCRIPTION:The next segment of WIRCO’s Volunteer Skills Training workshop will be this Saturday\, at the WIRCO RSC\, located at 6101 University Ave\, Madison\, WI 53705\, from 3pm to 5pm.\n \nWe are very excited to welcome back those who too part in our first segment\, and we look forward to welcoming new attendees as well. The workshop will follow up with the listening skills training that Mac introduced last Saturday\, and will expand into further areas of helping.\n\n\nMake note that we also host an All Recover Meeting from 12pm to 1pm\, every Saturday\, at the RSC\, and all those who are recovering are encouraged to attend.\n\n\nAdditionally\, if anyone is in need of transportation to or from the workshop\, please inform us\, and we can attempt to make arrangements so that all those interested can attend.\n\nQuestions or to RSVP? Please contact Pat Kempfer\, Volunteer Coordinator at 608.513.2069
URL:https://wisconsinvoicesforrecovery.org/event/wirco-wi-recovery-community-organization-helping-skills-training/
ATTACH;FMTTYPE=:
END:VEVENT
END:VCALENDAR